BEGIN:VCALENDAR
VERSION:2.0
PRODID:-//Andy Robinson - ECPv6.15.20//NONSGML v1.0//EN
CALSCALE:GREGORIAN
METHOD:PUBLISH
X-ORIGINAL-URL:https://andyrobinsononline.com
X-WR-CALDESC:Events for Andy Robinson
REFRESH-INTERVAL;VALUE=DURATION:PT1H
X-Robots-Tag:noindex
X-PUBLISHED-TTL:PT1H
BEGIN:VTIMEZONE
TZID:America/New_York
BEGIN:DAYLIGHT
TZOFFSETFROM:-0500
TZOFFSETTO:-0400
TZNAME:EDT
DTSTART:20190310T070000
END:DAYLIGHT
BEGIN:STANDARD
TZOFFSETFROM:-0400
TZOFFSETTO:-0500
TZNAME:EST
DTSTART:20191103T060000
END:STANDARD
BEGIN:DAYLIGHT
TZOFFSETFROM:-0500
TZOFFSETTO:-0400
TZNAME:EDT
DTSTART:20200308T070000
END:DAYLIGHT
BEGIN:STANDARD
TZOFFSETFROM:-0400
TZOFFSETTO:-0500
TZNAME:EST
DTSTART:20201101T060000
END:STANDARD
BEGIN:DAYLIGHT
TZOFFSETFROM:-0500
TZOFFSETTO:-0400
TZNAME:EDT
DTSTART:20210314T070000
END:DAYLIGHT
BEGIN:STANDARD
TZOFFSETFROM:-0400
TZOFFSETTO:-0500
TZNAME:EST
DTSTART:20211107T060000
END:STANDARD
END:VTIMEZONE
BEGIN:VEVENT
DTSTART;VALUE=DATE:20200505
DTEND;VALUE=DATE:20200506
DTSTAMP:20260424T074029
CREATED:20200429T010619Z
LAST-MODIFIED:20200429T010619Z
UID:3017-1588636800-1588723199@andyrobinsononline.com
SUMMARY:WEBINAR: Board Members: How You CAN and SHOULD Step Up Now
DESCRIPTION:
URL:https://andyrobinsononline.com/event/webinar-board-members-how-you-can-and-should-step-up-now/
LOCATION:Board Members: How You CAN and SHOULD Step Up Now
CATEGORIES:Webinar
ORGANIZER;CN="Nonprofit Association of Oregon":MAILTO:training@nonprofitoregon.org
END:VEVENT
BEGIN:VEVENT
DTSTART;VALUE=DATE:20200513
DTEND;VALUE=DATE:20200514
DTSTAMP:20260424T074029
CREATED:20200416T213752Z
LAST-MODIFIED:20200416T213752Z
UID:3012-1589328000-1589414399@andyrobinsononline.com
SUMMARY:WEBINAR: Stronger Together: Collaborations\, Shared Services\, and Joint Fundraising
DESCRIPTION:
URL:https://andyrobinsononline.com/event/webinar-stronger-together-collaborations-shared-services-and-joint-fundraising/
CATEGORIES:Webinar
ORGANIZER;CN="Community Resource Center":MAILTO:rodriguez@crcamerica.org
END:VEVENT
END:VCALENDAR