BEGIN:VCALENDAR
VERSION:2.0
PRODID:-//Andy Robinson - ECPv6.15.20//NONSGML v1.0//EN
CALSCALE:GREGORIAN
METHOD:PUBLISH
X-WR-CALNAME:Andy Robinson
X-ORIGINAL-URL:https://andyrobinsononline.com
X-WR-CALDESC:Events for Andy Robinson
REFRESH-INTERVAL;VALUE=DURATION:PT1H
X-Robots-Tag:noindex
X-PUBLISHED-TTL:PT1H
BEGIN:VTIMEZONE
TZID:America/New_York
BEGIN:DAYLIGHT
TZOFFSETFROM:-0500
TZOFFSETTO:-0400
TZNAME:EDT
DTSTART:20230312T070000
END:DAYLIGHT
BEGIN:STANDARD
TZOFFSETFROM:-0400
TZOFFSETTO:-0500
TZNAME:EST
DTSTART:20231105T060000
END:STANDARD
BEGIN:DAYLIGHT
TZOFFSETFROM:-0500
TZOFFSETTO:-0400
TZNAME:EDT
DTSTART:20240310T070000
END:DAYLIGHT
BEGIN:STANDARD
TZOFFSETFROM:-0400
TZOFFSETTO:-0500
TZNAME:EST
DTSTART:20241103T060000
END:STANDARD
BEGIN:DAYLIGHT
TZOFFSETFROM:-0500
TZOFFSETTO:-0400
TZNAME:EDT
DTSTART:20250309T070000
END:DAYLIGHT
BEGIN:STANDARD
TZOFFSETFROM:-0400
TZOFFSETTO:-0500
TZNAME:EST
DTSTART:20251102T060000
END:STANDARD
END:VTIMEZONE
BEGIN:VEVENT
DTSTART;TZID=America/New_York:20240919T090000
DTEND;TZID=America/New_York:20240919T110000
DTSTAMP:20260420T110138
CREATED:20240428T134857Z
LAST-MODIFIED:20240911T034754Z
UID:3348-1726736400-1726743600@andyrobinsononline.com
SUMMARY:WEBINAR: Getting the Most from Your Board
DESCRIPTION:
URL:https://andyrobinsononline.com/event/webinar-getting-the-most-from-your-board/
CATEGORIES:Webinar
ORGANIZER;CN="Center for Nonprofit Leadership":MAILTO:brewsterk@callutheran.edu
END:VEVENT
BEGIN:VEVENT
DTSTART;TZID=America/New_York:20240926T110000
DTEND;TZID=America/New_York:20240926T180000
DTSTAMP:20260420T110138
CREATED:20240627T231918Z
LAST-MODIFIED:20240911T034827Z
UID:3358-1727348400-1727373600@andyrobinsononline.com
SUMMARY:WEBINAR: Board Builders Symposium - A New Lens to Nonprofit Leadership
DESCRIPTION:
URL:https://andyrobinsononline.com/event/webinar-board-builders-symposium-a-new-lens-to-nonprofit-leadership/
CATEGORIES:Webinar
ORGANIZER;CN="Board Builders Symposium":MAILTO:theboardpro@gmail.com
END:VEVENT
END:VCALENDAR