BEGIN:VCALENDAR
VERSION:2.0
PRODID:-//Andy Robinson - ECPv6.15.20//NONSGML v1.0//EN
CALSCALE:GREGORIAN
METHOD:PUBLISH
X-ORIGINAL-URL:https://andyrobinsononline.com
X-WR-CALDESC:Events for Andy Robinson
REFRESH-INTERVAL;VALUE=DURATION:PT1H
X-Robots-Tag:noindex
X-PUBLISHED-TTL:PT1H
BEGIN:VTIMEZONE
TZID:America/New_York
BEGIN:DAYLIGHT
TZOFFSETFROM:-0500
TZOFFSETTO:-0400
TZNAME:EDT
DTSTART:20230312T070000
END:DAYLIGHT
BEGIN:STANDARD
TZOFFSETFROM:-0400
TZOFFSETTO:-0500
TZNAME:EST
DTSTART:20231105T060000
END:STANDARD
BEGIN:DAYLIGHT
TZOFFSETFROM:-0500
TZOFFSETTO:-0400
TZNAME:EDT
DTSTART:20240310T070000
END:DAYLIGHT
BEGIN:STANDARD
TZOFFSETFROM:-0400
TZOFFSETTO:-0500
TZNAME:EST
DTSTART:20241103T060000
END:STANDARD
BEGIN:DAYLIGHT
TZOFFSETFROM:-0500
TZOFFSETTO:-0400
TZNAME:EDT
DTSTART:20250309T070000
END:DAYLIGHT
BEGIN:STANDARD
TZOFFSETFROM:-0400
TZOFFSETTO:-0500
TZNAME:EST
DTSTART:20251102T060000
END:STANDARD
END:VTIMEZONE
BEGIN:VEVENT
DTSTART;TZID=America/New_York:20241022T130000
DTEND;TZID=America/New_York:20241022T143000
DTSTAMP:20260420T091751
CREATED:20240705T201907Z
LAST-MODIFIED:20240916T215525Z
UID:3366-1729602000-1729607400@andyrobinsononline.com
SUMMARY:WEBINAR: Beyond the 501(c)(3): Thinking Differently About Governance\, Nonprofit Structure\, and Social Change
DESCRIPTION:
URL:https://andyrobinsononline.com/event/webinar-beyond-the-501c3-thinking-differently-about-governance-nonprofit-structure-and-social-change-2/
CATEGORIES:Webinar
ORGANIZER;CN="Maine Association of Nonprofits":MAILTO:jclark@nonprofitmaine.org
END:VEVENT
BEGIN:VEVENT
DTSTART;TZID=America/New_York:20241024T090000
DTEND;TZID=America/New_York:20241024T110000
DTSTAMP:20260420T091751
CREATED:20240916T214606Z
LAST-MODIFIED:20240916T215455Z
UID:4014-1729760400-1729767600@andyrobinsononline.com
SUMMARY:WEBINAR: Beyond the 501(c)(3): Thinking Differently about Governance\, Nonprofit Structure\, and Social Change
DESCRIPTION:
URL:https://andyrobinsononline.com/event/beyond-the-501c3-thinking-differently-about-governance-nonprofit-structure-and-social-change/
CATEGORIES:Webinar
ORGANIZER;CN="Community Foundation of the Gunnison Valley":MAILTO:alicia@cfgv.org
END:VEVENT
END:VCALENDAR