BEGIN:VCALENDAR
VERSION:2.0
PRODID:-//Andy Robinson - ECPv6.15.20//NONSGML v1.0//EN
CALSCALE:GREGORIAN
METHOD:PUBLISH
X-ORIGINAL-URL:https://andyrobinsononline.com
X-WR-CALDESC:Events for Andy Robinson
REFRESH-INTERVAL;VALUE=DURATION:PT1H
X-Robots-Tag:noindex
X-PUBLISHED-TTL:PT1H
BEGIN:VTIMEZONE
TZID:America/New_York
BEGIN:DAYLIGHT
TZOFFSETFROM:-0500
TZOFFSETTO:-0400
TZNAME:EDT
DTSTART:20240310T070000
END:DAYLIGHT
BEGIN:STANDARD
TZOFFSETFROM:-0400
TZOFFSETTO:-0500
TZNAME:EST
DTSTART:20241103T060000
END:STANDARD
BEGIN:DAYLIGHT
TZOFFSETFROM:-0500
TZOFFSETTO:-0400
TZNAME:EDT
DTSTART:20250309T070000
END:DAYLIGHT
BEGIN:STANDARD
TZOFFSETFROM:-0400
TZOFFSETTO:-0500
TZNAME:EST
DTSTART:20251102T060000
END:STANDARD
BEGIN:DAYLIGHT
TZOFFSETFROM:-0500
TZOFFSETTO:-0400
TZNAME:EDT
DTSTART:20260308T070000
END:DAYLIGHT
BEGIN:STANDARD
TZOFFSETFROM:-0400
TZOFFSETTO:-0500
TZNAME:EST
DTSTART:20261101T060000
END:STANDARD
BEGIN:DAYLIGHT
TZOFFSETFROM:-0500
TZOFFSETTO:-0400
TZNAME:EDT
DTSTART:20270314T070000
END:DAYLIGHT
BEGIN:STANDARD
TZOFFSETFROM:-0400
TZOFFSETTO:-0500
TZNAME:EST
DTSTART:20271107T060000
END:STANDARD
END:VTIMEZONE
BEGIN:VEVENT
DTSTART;TZID=America/New_York:20250220T113000
DTEND;TZID=America/New_York:20250220T134500
DTSTAMP:20260421T212233
CREATED:20250108T215508Z
LAST-MODIFIED:20250108T215508Z
UID:4072-1740051000-1740059100@andyrobinsononline.com
SUMMARY:WEBINAR: Redefining Fundraising So Everyone Can Participate
DESCRIPTION:
URL:https://andyrobinsononline.com/event/webinar-redefining-fundraising-so-everyone-can-participate/
LOCATION:WEBINAR: Redefining Fundraising So Everyone Can Participate
CATEGORIES:Webinar
ORGANIZER;CN="the Center for Health Nonprofits":MAILTO:rsnyder@cfsaz.org
END:VEVENT
BEGIN:VEVENT
DTSTART;VALUE=DATE:20250506
DTEND;VALUE=DATE:20250507
DTSTAMP:20260421T212233
CREATED:20241211T193711Z
LAST-MODIFIED:20241211T195010Z
UID:4048-1746489600-1746575999@andyrobinsononline.com
SUMMARY:WEBINAR: Hiring (and Keeping) Your Fundraisers
DESCRIPTION:
URL:https://andyrobinsononline.com/event/webinar-hiring-and-keeping-your-fundraisers/
LOCATION:WEBINAR: Hiring (and Keeping) Your Fundraisers
CATEGORIES:Webinar
ORGANIZER;CN="Nonprofit Association of Oregon":MAILTO:tbangura@nonprofitoregon.org
END:VEVENT
BEGIN:VEVENT
DTSTART;TZID=America/New_York:20250815T090000
DTEND;TZID=America/New_York:20250815T110000
DTSTAMP:20260421T212233
CREATED:20250630T020207Z
LAST-MODIFIED:20250630T020408Z
UID:4117-1755248400-1755255600@andyrobinsononline.com
SUMMARY:WEBINAR: How to Effectively Recruit and Manage Volunteers
DESCRIPTION:
URL:https://andyrobinsononline.com/event/webinar-how-to-effectively-recruit-and-manage-volunteers/
LOCATION:WEBINAR: How to Effectively Recruit and Manage Volunteers
CATEGORIES:Webinar
ORGANIZER;CN="Center for Nonprofit Leadership%2C California Lutheran University":MAILTO:brewsterk@callutheran.edu
END:VEVENT
BEGIN:VEVENT
DTSTART;TZID=America/New_York:20250905T003000
DTEND;TZID=America/New_York:20250905T140000
DTSTAMP:20260421T212233
CREATED:20250630T021055Z
LAST-MODIFIED:20250630T021055Z
UID:4123-1757032200-1757080800@andyrobinsononline.com
SUMMARY:WEBINAR: Empowering Nonprofit Boards for Success
DESCRIPTION:
URL:https://andyrobinsononline.com/event/webinar-empowering-nonprofit-boards-for-success/
LOCATION:WEBINAR: Empowering Nonprofit Boards for Success
CATEGORIES:Webinar
ORGANIZER;CN="Nonprofit Center of the Berkshires":MAILTO:liana@npcberkshires.org
END:VEVENT
BEGIN:VEVENT
DTSTART;TZID=America/New_York:20250909T110000
DTEND;TZID=America/New_York:20250909T123000
DTSTAMP:20260421T212233
CREATED:20250630T144646Z
LAST-MODIFIED:20250630T144646Z
UID:4136-1757415600-1757421000@andyrobinsononline.com
SUMMARY:WEBINAR: Beyond the 501(c)(3): Thinking Differently about Governance\, Nonprofit Structure\, and and Social Change
DESCRIPTION:
URL:https://andyrobinsononline.com/event/webinar-beyond-the-501c3-thinking-differently-about-governance-nonprofit-structure-and-and-social-change/
LOCATION:WEBINAR: Beyond the 501(c)(3): Thinking Differently about Governance\, Nonprofit Structure\, and and Social Change
CATEGORIES:Webinar
ORGANIZER;CN="Community Foundation of Greater New Haven":MAILTO:aabramson@cfgnh.org
END:VEVENT
BEGIN:VEVENT
DTSTART;TZID=America/New_York:20250912T003000
DTEND;TZID=America/New_York:20250912T140000
DTSTAMP:20260421T212233
CREATED:20250630T022457Z
LAST-MODIFIED:20250630T022457Z
UID:4128-1757637000-1757685600@andyrobinsononline.com
SUMMARY:WEBINAR: Empowering Nonprofit Boards for Success
DESCRIPTION:
URL:https://andyrobinsononline.com/event/webinar-empowering-nonprofit-boards-for-success-2/
LOCATION:WEBINAR: Empowering Nonprofit Boards for Success
CATEGORIES:Webinar
ORGANIZER;CN="Nonprofit Center of the Berkshires":MAILTO:liana@npcberkshires.org
END:VEVENT
BEGIN:VEVENT
DTSTART;TZID=America/New_York:20250916T100000
DTEND;TZID=America/New_York:20250916T233000
DTSTAMP:20260421T212233
CREATED:20250811T195347Z
LAST-MODIFIED:20250811T195347Z
UID:4166-1758016800-1758065400@andyrobinsononline.com
SUMMARY:WEBINAR: Strengthening Board Leadership for Organizational Resiliency
DESCRIPTION:
URL:https://andyrobinsononline.com/event/webinar-strengthening-board-leadership-for-organizational-resiliency/
CATEGORIES:Webinar
ORGANIZER;CN="Common Good Vermont":MAILTO:emma@commongoodvt.org
END:VEVENT
BEGIN:VEVENT
DTSTART;TZID=America/New_York:20250917T090000
DTEND;TZID=America/New_York:20250917T110000
DTSTAMP:20260421T212233
CREATED:20250630T144946Z
LAST-MODIFIED:20250630T144946Z
UID:4140-1758099600-1758106800@andyrobinsononline.com
SUMMARY:WEBINAR: Mobilize Your Board to Raise More Money
DESCRIPTION:
URL:https://andyrobinsononline.com/event/webinar-mobilize-your-board-to-raise-more-money-3/
LOCATION:WEBINAR: Mobilize Your Board to Raise More Money
CATEGORIES:Webinar
ORGANIZER;CN="Center for Nonprofit Leadership%2C California Lutheran University":MAILTO:brewsterk@callutheran.edu
END:VEVENT
BEGIN:VEVENT
DTSTART;TZID=America/New_York:20250919T003000
DTEND;TZID=America/New_York:20250919T140000
DTSTAMP:20260421T212233
CREATED:20250630T023200Z
LAST-MODIFIED:20250630T023200Z
UID:4134-1758241800-1758290400@andyrobinsononline.com
SUMMARY:WEBINAR: Empowering Nonprofit Boards for Success
DESCRIPTION:
URL:https://andyrobinsononline.com/event/webinar-empowering-nonprofit-boards-for-success-5/
LOCATION:WEBINAR: Empowering Nonprofit Boards for Success
CATEGORIES:Webinar
ORGANIZER;CN="Nonprofit Center of the Berkshires":MAILTO:liana@npcberkshires.org
END:VEVENT
BEGIN:VEVENT
DTSTART;TZID=America/New_York:20251003T003000
DTEND;TZID=America/New_York:20251003T140000
DTSTAMP:20260421T212233
CREATED:20250630T022557Z
LAST-MODIFIED:20250630T022557Z
UID:4132-1759451400-1759500000@andyrobinsononline.com
SUMMARY:WEBINAR: Empowering Nonprofit Boards for Success
DESCRIPTION:
URL:https://andyrobinsononline.com/event/webinar-empowering-nonprofit-boards-for-success-4/
LOCATION:WEBINAR: Empowering Nonprofit Boards for Success
CATEGORIES:Webinar
ORGANIZER;CN="Nonprofit Center of the Berkshires":MAILTO:liana@npcberkshires.org
END:VEVENT
BEGIN:VEVENT
DTSTART;TZID=America/New_York:20251015T140000
DTEND;TZID=America/New_York:20251015T153000
DTSTAMP:20260421T212233
CREATED:20250812T140400Z
LAST-MODIFIED:20250812T140520Z
UID:4169-1760536800-1760542200@andyrobinsononline.com
SUMMARY:WEBINAR: Leading Your Land Trust to be the Best Place to Work
DESCRIPTION:
URL:https://andyrobinsononline.com/event/leading-your-land-trust-to-be-the-best-place-to-work/
CATEGORIES:Webinar
ORGANIZER;CN="Land Trust Alliance":MAILTO:alocatisprochaska@lta.org
END:VEVENT
BEGIN:VEVENT
DTSTART;TZID=America/New_York:20260220T120000
DTEND;TZID=America/New_York:20260220T133000
DTSTAMP:20260421T212233
CREATED:20251216T042242Z
LAST-MODIFIED:20251216T042242Z
UID:4190-1771588800-1771594200@andyrobinsononline.com
SUMMARY:WEBINAR: Is it OK to Give Up on Your Board? Alternative Fundraising Strategies
DESCRIPTION:
URL:https://andyrobinsononline.com/event/webinar-is-it-ok-to-give-up-on-your-board-alternative-fundraising-strategies/
CATEGORIES:Webinar
ORGANIZER;CN="SVCreates":MAILTO:sinjin@svcreates.org
END:VEVENT
BEGIN:VEVENT
DTSTART;TZID=America/New_York:20260409T130000
DTEND;TZID=America/New_York:20260409T143000
DTSTAMP:20260421T212233
CREATED:20260326T171913Z
LAST-MODIFIED:20260326T171913Z
UID:4228-1775739600-1775745000@andyrobinsononline.com
SUMMARY:WEBINAR: Vermont Nonprofits and Immigration Enforcement: How Your Organization Can Respond
DESCRIPTION:
URL:https://andyrobinsononline.com/event/webinar-vermont-nonprofits-and-immigration-enforcement-how-your-organization-can-respond/
CATEGORIES:Webinar
ORGANIZER;CN="Common Good Vermont":MAILTO:emma@commongoodvt.org
END:VEVENT
END:VCALENDAR