BEGIN:VCALENDAR
VERSION:2.0
PRODID:-//Andy Robinson - ECPv6.15.20//NONSGML v1.0//EN
CALSCALE:GREGORIAN
METHOD:PUBLISH
X-ORIGINAL-URL:https://andyrobinsononline.com
X-WR-CALDESC:Events for Andy Robinson
REFRESH-INTERVAL;VALUE=DURATION:PT1H
X-Robots-Tag:noindex
X-PUBLISHED-TTL:PT1H
BEGIN:VTIMEZONE
TZID:America/New_York
BEGIN:DAYLIGHT
TZOFFSETFROM:-0500
TZOFFSETTO:-0400
TZNAME:EDT
DTSTART:20170312T070000
END:DAYLIGHT
BEGIN:STANDARD
TZOFFSETFROM:-0400
TZOFFSETTO:-0500
TZNAME:EST
DTSTART:20171105T060000
END:STANDARD
BEGIN:DAYLIGHT
TZOFFSETFROM:-0500
TZOFFSETTO:-0400
TZNAME:EDT
DTSTART:20180311T070000
END:DAYLIGHT
BEGIN:STANDARD
TZOFFSETFROM:-0400
TZOFFSETTO:-0500
TZNAME:EST
DTSTART:20181104T060000
END:STANDARD
BEGIN:DAYLIGHT
TZOFFSETFROM:-0500
TZOFFSETTO:-0400
TZNAME:EDT
DTSTART:20190310T070000
END:DAYLIGHT
BEGIN:STANDARD
TZOFFSETFROM:-0400
TZOFFSETTO:-0500
TZNAME:EST
DTSTART:20191103T060000
END:STANDARD
END:VTIMEZONE
BEGIN:VEVENT
DTSTART;VALUE=DATE:20180925
DTEND;VALUE=DATE:20180926
DTSTAMP:20260425T215505
CREATED:20180823T030738Z
LAST-MODIFIED:20180823T030738Z
UID:2437-1537833600-1537919999@andyrobinsononline.com
SUMMARY:Cultivate the Best in Your Board - Bayside\, CA
DESCRIPTION:
URL:https://andyrobinsononline.com/event/cultivate-the-best-in-your-board-bayside-ca/
LOCATION:Cultivate the Best in Your Board\, Bayside\, CA\, United States
CATEGORIES:Workshop
ORGANIZER;CN="NorCAN -- Humboldt Area Foundation":MAILTO:NorCAN@hafoundation.org
END:VEVENT
BEGIN:VEVENT
DTSTART;VALUE=DATE:20180926
DTEND;VALUE=DATE:20180927
DTSTAMP:20260425T215505
CREATED:20180823T031138Z
LAST-MODIFIED:20180823T031138Z
UID:2441-1537920000-1538006399@andyrobinsononline.com
SUMMARY:How to Be the Best Board Member Ever! - Crescent City\, CA
DESCRIPTION:
URL:https://andyrobinsononline.com/event/how-to-be-the-best-board-member-ever-crescent-city-ca/
LOCATION:How to Be the Best Board Member Ever!\, Crescent City\, CA\, United States
CATEGORIES:Workshop
ORGANIZER;CN="Wild Rivers Community Foundation":MAILTO:kmosey@wildriverscf.org
END:VEVENT
BEGIN:VEVENT
DTSTART;VALUE=DATE:20180928
DTEND;VALUE=DATE:20180929
DTSTAMP:20260425T215505
CREATED:20180810T213317Z
LAST-MODIFIED:20180810T213317Z
UID:2403-1538092800-1538179199@andyrobinsononline.com
SUMMARY:Mobilize Your Board to Raise More Money and Creating a 12 Week Major Gifts Campaign - Vancouver\, WA
DESCRIPTION:
URL:https://andyrobinsononline.com/event/mobilize-your-board-to-raise-more-money-and-creating-a-12-week-major-gifts-campaign-vancouver-wa/
LOCATION:Mobilize Your Board to Raise More Money and Creating a 12 Week Major Gifts Campaign\, Vancouver\, WA\, United States
CATEGORIES:Workshop
ORGANIZER;CN="Nonprofit Network of Southwest Washington":MAILTO:jeanne@nonprofitnetworkwa.org
END:VEVENT
END:VCALENDAR