BEGIN:VCALENDAR
VERSION:2.0
PRODID:-//Andy Robinson - ECPv6.15.20//NONSGML v1.0//EN
CALSCALE:GREGORIAN
METHOD:PUBLISH
X-ORIGINAL-URL:https://andyrobinsononline.com
X-WR-CALDESC:Events for Andy Robinson
REFRESH-INTERVAL;VALUE=DURATION:PT1H
X-Robots-Tag:noindex
X-PUBLISHED-TTL:PT1H
BEGIN:VTIMEZONE
TZID:America/New_York
BEGIN:DAYLIGHT
TZOFFSETFROM:-0500
TZOFFSETTO:-0400
TZNAME:EDT
DTSTART:20180311T070000
END:DAYLIGHT
BEGIN:STANDARD
TZOFFSETFROM:-0400
TZOFFSETTO:-0500
TZNAME:EST
DTSTART:20181104T060000
END:STANDARD
BEGIN:DAYLIGHT
TZOFFSETFROM:-0500
TZOFFSETTO:-0400
TZNAME:EDT
DTSTART:20190310T070000
END:DAYLIGHT
BEGIN:STANDARD
TZOFFSETFROM:-0400
TZOFFSETTO:-0500
TZNAME:EST
DTSTART:20191103T060000
END:STANDARD
BEGIN:DAYLIGHT
TZOFFSETFROM:-0500
TZOFFSETTO:-0400
TZNAME:EDT
DTSTART:20200308T070000
END:DAYLIGHT
BEGIN:STANDARD
TZOFFSETFROM:-0400
TZOFFSETTO:-0500
TZNAME:EST
DTSTART:20201101T060000
END:STANDARD
END:VTIMEZONE
BEGIN:VEVENT
DTSTART;VALUE=DATE:20190501
DTEND;VALUE=DATE:20190502
DTSTAMP:20260425T083704
CREATED:20190209T021854Z
LAST-MODIFIED:20190209T021854Z
UID:2804-1556668800-1556755199@andyrobinsononline.com
SUMMARY:Focus on Fundraising: It Takes a Team - Bar Harbor\, ME
DESCRIPTION:
URL:https://andyrobinsononline.com/event/focus-on-fundraising-it-takes-a-team-bar-harbor-me/
LOCATION:Focus on Fundraising: It Takes a Team\, Bar Harbor\, ME\, United States
CATEGORIES:Workshop
ORGANIZER;CN="Maine Association of Nonprofits":MAILTO:kruffner@nonprofitmaine.org
END:VEVENT
BEGIN:VEVENT
DTSTART;VALUE=DATE:20190503
DTEND;VALUE=DATE:20190504
DTSTAMP:20260425T083704
CREATED:20190209T022214Z
LAST-MODIFIED:20190209T022214Z
UID:2807-1556841600-1556927999@andyrobinsononline.com
SUMMARY:Focus on Fundraising: It Takes a Team - Waterville\, ME
DESCRIPTION:
URL:https://andyrobinsononline.com/event/focus-on-fundraising-it-takes-a-team-waterville-me/
LOCATION:Focus on Fundraising: It Takes a Team\, Waterville\, ME\, United States
CATEGORIES:Workshop
ORGANIZER;CN="Maine Association of Nonprofits":MAILTO:kruffner@nonprofitmaine.org
END:VEVENT
BEGIN:VEVENT
DTSTART;VALUE=DATE:20190511
DTEND;VALUE=DATE:20190512
DTSTAMP:20260425T083704
CREATED:20190407T172048Z
LAST-MODIFIED:20190407T172048Z
UID:2819-1557532800-1557619199@andyrobinsononline.com
SUMMARY:Building Your Best Board - North Creek\, NY
DESCRIPTION:
URL:https://andyrobinsononline.com/event/building-your-best-board-north-creek-ny/
LOCATION:Building Your Best Board\, North Creek\, NY\, United States
CATEGORIES:Workshop
ORGANIZER;CN="Adirondack Foundation":MAILTO:lindsay@adkfoundation.org
END:VEVENT
END:VCALENDAR