BEGIN:VCALENDAR
VERSION:2.0
PRODID:-//Andy Robinson - ECPv6.15.20//NONSGML v1.0//EN
CALSCALE:GREGORIAN
METHOD:PUBLISH
X-WR-CALNAME:Andy Robinson
X-ORIGINAL-URL:https://andyrobinsononline.com
X-WR-CALDESC:Events for Andy Robinson
REFRESH-INTERVAL;VALUE=DURATION:PT1H
X-Robots-Tag:noindex
X-PUBLISHED-TTL:PT1H
BEGIN:VTIMEZONE
TZID:America/New_York
BEGIN:DAYLIGHT
TZOFFSETFROM:-0500
TZOFFSETTO:-0400
TZNAME:EDT
DTSTART:20140309T070000
END:DAYLIGHT
BEGIN:STANDARD
TZOFFSETFROM:-0400
TZOFFSETTO:-0500
TZNAME:EST
DTSTART:20141102T060000
END:STANDARD
BEGIN:DAYLIGHT
TZOFFSETFROM:-0500
TZOFFSETTO:-0400
TZNAME:EDT
DTSTART:20150308T070000
END:DAYLIGHT
BEGIN:STANDARD
TZOFFSETFROM:-0400
TZOFFSETTO:-0500
TZNAME:EST
DTSTART:20151101T060000
END:STANDARD
BEGIN:DAYLIGHT
TZOFFSETFROM:-0500
TZOFFSETTO:-0400
TZNAME:EDT
DTSTART:20160313T070000
END:DAYLIGHT
BEGIN:STANDARD
TZOFFSETFROM:-0400
TZOFFSETTO:-0500
TZNAME:EST
DTSTART:20161106T060000
END:STANDARD
BEGIN:DAYLIGHT
TZOFFSETFROM:-0500
TZOFFSETTO:-0400
TZNAME:EDT
DTSTART:20170312T070000
END:DAYLIGHT
BEGIN:STANDARD
TZOFFSETFROM:-0400
TZOFFSETTO:-0500
TZNAME:EST
DTSTART:20171105T060000
END:STANDARD
END:VTIMEZONE
BEGIN:VEVENT
DTSTART;VALUE=DATE:20160520
DTEND;VALUE=DATE:20160521
DTSTAMP:20260419T170505
CREATED:20160417T213745Z
LAST-MODIFIED:20160516T172829Z
UID:1875-1463702400-1463788799@andyrobinsononline.com
SUMMARY:Building Sustainability: Fundraising and Beyond - Lake Crescent\, WA
DESCRIPTION:
URL:https://andyrobinsononline.com/event/building-sustainability-fundraising-beyond-lake-crescent-wa/
LOCATION:Building Sustainability: Fundraising and Beyond\, 111 Barnes Point Rd\, Port Angeles\, WA\, 98363\, United States
CATEGORIES:Workshop
ORGANIZER;CN="Olympic View Community Foundation":MAILTO:sueellen@ov-cf.org
END:VEVENT
BEGIN:VEVENT
DTSTART;VALUE=DATE:20160513
DTEND;VALUE=DATE:20160514
DTSTAMP:20260419T170505
CREATED:20160418T012813Z
LAST-MODIFIED:20160418T012813Z
UID:1878-1463097600-1463183999@andyrobinsononline.com
SUMMARY:Building a Board That Works - Saranac Lake\, NY
DESCRIPTION:
URL:https://andyrobinsononline.com/event/building-board-works-saranac-lake-ny/
LOCATION:Building a Board That Works\, Saranac Lake\, NY\, United States
CATEGORIES:Workshop
ORGANIZER;CN="Clinton-Essex-Franklin Library System%2C Adirondack Foundation%2C and Lake Placid Education Foundation":MAILTO:jwever@cefls.org
END:VEVENT
BEGIN:VEVENT
DTSTART;VALUE=DATE:20160429
DTEND;VALUE=DATE:20160430
DTSTAMP:20260419T170505
CREATED:20160314T184323Z
LAST-MODIFIED:20160314T184449Z
UID:1866-1461888000-1461974399@andyrobinsononline.com
SUMMARY:Board and Fundraising Workshop - Hood River\, OR
DESCRIPTION:
URL:https://andyrobinsononline.com/event/board-fundraising-workshop-hood-river/
LOCATION:Board and Fundraising Workshop\, Hood River\, OR\, United States
CATEGORIES:Workshop
ORGANIZER;CN="Nonprofit Association of Oregon":MAILTO:jbugley@nonprofitoregon.org
END:VEVENT
BEGIN:VEVENT
DTSTART;VALUE=DATE:20160421
DTEND;VALUE=DATE:20160422
DTSTAMP:20260419T170505
CREATED:20160314T184145Z
LAST-MODIFIED:20160314T184155Z
UID:1863-1461196800-1461283199@andyrobinsononline.com
SUMMARY:Building a Successful\, Sustainable Organization: Fundraising and Beyond - Plattsburgh\, NY
DESCRIPTION:
URL:https://andyrobinsononline.com/event/building-successful-sustainable-organization-fundraising-beyond-plattsburgh-ny/
LOCATION:Building a Successful\, Sustainable Organization: Fundraising and Beyond\, Plattsburgh\, NY\, United States
CATEGORIES:Workshop
ORGANIZER;CN="Adirondack Foundation%2C United Way of the Adirondack Region":MAILTO:chris@generousact.org
END:VEVENT
BEGIN:VEVENT
DTSTART;VALUE=DATE:20160402
DTEND;VALUE=DATE:20160403
DTSTAMP:20260419T170505
CREATED:20160325T171432Z
LAST-MODIFIED:20160325T171432Z
UID:1870-1459555200-1459641599@andyrobinsononline.com
SUMMARY:Board Fundraising - Brattleboro\, VT
DESCRIPTION:
URL:https://andyrobinsononline.com/event/board-fundraising-brattleboro-vt/
LOCATION:Board Fundraising\, Brattleboro\, VT\, United States
CATEGORIES:Workshop
ORGANIZER;CN="Marlboro Grad School Center for New Leadership":MAILTO:klier@gradschool.marlboro.edu
END:VEVENT
BEGIN:VEVENT
DTSTART;VALUE=DATE:20160310
DTEND;VALUE=DATE:20160311
DTSTAMP:20260419T170505
CREATED:20160216T164029Z
LAST-MODIFIED:20160216T164059Z
UID:1858-1457568000-1457654399@andyrobinsononline.com
SUMMARY:WEBINAR - Mobilize Your Board to Raise More Money
DESCRIPTION:
URL:https://andyrobinsononline.com/event/webinar-mobilize-your-board-to-raise-more-money/
LOCATION:Mobilize Your Board to Raise More Money
CATEGORIES:Webinar
ORGANIZER;CN="Foundation for the Metrowest":MAILTO:cmurphy@foundationformetrowest.org
END:VEVENT
BEGIN:VEVENT
DTSTART;VALUE=DATE:20160303
DTEND;VALUE=DATE:20160304
DTSTAMP:20260419T170505
CREATED:20151230T212702Z
LAST-MODIFIED:20151230T212702Z
UID:1765-1456963200-1457049599@andyrobinsononline.com
SUMMARY:Creating (and Using) Your Fundraising Plan and Creating a Major Gifts Program - Traverse City\, MI
DESCRIPTION:
URL:https://andyrobinsononline.com/event/creating-and-using-your-fundraising-plan-and-creating-a-major-gifts-program-traverse-city-mi/
LOCATION:Creating (and Using) Your Fundraising Plan and Creating a Major Gifts Program\, Traverse City\, MI\, United States
ORGANIZER;CN="Northsky Nonprofit Network":MAILTO:pevans@northskynonprofitnetwork.org
END:VEVENT
BEGIN:VEVENT
DTSTART;VALUE=DATE:20160128
DTEND;VALUE=DATE:20160129
DTSTAMP:20260419T170505
CREATED:20151230T212249Z
LAST-MODIFIED:20151230T212422Z
UID:1762-1453939200-1454025599@andyrobinsononline.com
SUMMARY:Creating a 12-Week Major Gifts Campaign - Philadelphia\, PA
DESCRIPTION:
URL:https://andyrobinsononline.com/event/creating-a-12-week-major-gifts-campaign/
LOCATION:Creating a 12-Week Major Gifts Campaign\, Philadelphia\, PA\, United States
ORGANIZER;CN="Philadelphia Free Library":MAILTO:seifritzc@freelibrary.org
END:VEVENT
BEGIN:VEVENT
DTSTART;VALUE=DATE:20151203
DTEND;VALUE=DATE:20151204
DTSTAMP:20260419T170505
CREATED:20150831T183220Z
LAST-MODIFIED:20151221T211636Z
UID:1718-1449100800-1449187199@andyrobinsononline.com
SUMMARY:Focus on Fundraising - Freeport\, ME
DESCRIPTION:
URL:https://andyrobinsononline.com/event/focus-on-fundraising-freeport-me/
LOCATION:Unnamed Venue\, Freeport\, ME\, United States
CATEGORIES:Workshop
ORGANIZER;CN="Maine Association of Nonprofits":MAILTO:kruffner@nonprofitmaine.org
END:VEVENT
BEGIN:VEVENT
DTSTART;VALUE=DATE:20151202
DTEND;VALUE=DATE:20151203
DTSTAMP:20260419T170505
CREATED:20151013T031653Z
LAST-MODIFIED:20151013T032202Z
UID:1745-1449014400-1449100799@andyrobinsononline.com
SUMMARY:Building Your Group: How to Effectively Recruit and Manage Volunteers - Bath\, ME
DESCRIPTION:
URL:https://andyrobinsononline.com/event/building-your-group-how-to-effectively-recruit-and-manage-volunteers-bath-me/
LOCATION:Building Your Group: How to Effectively Recruit and Manage Volunteers\, Bath\, ME\, United States
CATEGORIES:Workshop
ORGANIZER;CN="Maine Land Trust Network":MAILTO:dbissett@mcht.org
END:VEVENT
BEGIN:VEVENT
DTSTART;VALUE=DATE:20151120
DTEND;VALUE=DATE:20151121
DTSTAMP:20260419T170505
CREATED:20150925T164951Z
LAST-MODIFIED:20150925T171814Z
UID:1738-1447977600-1448063999@andyrobinsononline.com
SUMMARY:Creating (and Using Your Fundraising Plan) - Fort Bragg\, CA
DESCRIPTION:
URL:https://andyrobinsononline.com/event/creating-and-using-your-fundraising-plan-fort-bragg-ca/
LOCATION:Creating (and Using Your Fundraising Plan)\, Fort Bragg\, CA\, United States
CATEGORIES:Workshop
ORGANIZER;CN="Community Foundation of Mendocino County":MAILTO:michelle@communityfound.org
END:VEVENT
BEGIN:VEVENT
DTSTART;VALUE=DATE:20151118
DTEND;VALUE=DATE:20151119
DTSTAMP:20260419T170505
CREATED:20150925T164718Z
LAST-MODIFIED:20150925T164718Z
UID:1735-1447804800-1447891199@andyrobinsononline.com
SUMMARY:Strengthening Your Organization: Build an Effective Board and Plan Your Future - Smith River\, CA
DESCRIPTION:
URL:https://andyrobinsononline.com/event/strengthening-your-organization-build-an-effective-board-and-plan-your-future-smith-river-ca/
LOCATION:Strengthening Your Organization: Build an Effective Board and Plan Your Future\, Smith River\, CA\, United States
CATEGORIES:Workshop
ORGANIZER;CN="Wild Rivers Community Foundation":MAILTO:cpeters@wildriverscf.org
END:VEVENT
BEGIN:VEVENT
DTSTART;VALUE=DATE:20151117
DTEND;VALUE=DATE:20151118
DTSTAMP:20260419T170505
CREATED:20150925T165954Z
LAST-MODIFIED:20150925T171714Z
UID:1741-1447718400-1447804799@andyrobinsononline.com
SUMMARY:Success and Sustainability: Building Effective Nonprofits for the Long Haul - Garberville\, CA
DESCRIPTION:
URL:https://andyrobinsononline.com/event/success-and-sustainability-building-effective-nonprofits-for-the-long-haul-garberville-ca/
LOCATION:Success and Sustainability: Building Effective Nonprofits for the Long Haul\, Garberville\, CA\, United States
CATEGORIES:Workshop
ORGANIZER;CN="Humboldt Area Foundation / NorCAN":MAILTO:amyj@hafoundation.org
END:VEVENT
BEGIN:VEVENT
DTSTART;VALUE=DATE:20151116
DTEND;VALUE=DATE:20151117
DTSTAMP:20260419T170505
CREATED:20150925T163352Z
LAST-MODIFIED:20150925T163352Z
UID:1731-1447632000-1447718399@andyrobinsononline.com
SUMMARY:Creating (and Using Your Fundraising Plan) - Ukiah\, CA
DESCRIPTION:
URL:https://andyrobinsononline.com/event/creating-and-using-your-fundraising-plan-ukiah-ca/
LOCATION:Creating (and Using Your Fundraising Plan)\, Ukiah\, CA\, United States
CATEGORIES:Workshop
ORGANIZER;CN="Community Foundation of Mendocino County":MAILTO:michelle@communityfound.org
END:VEVENT
BEGIN:VEVENT
DTSTART;VALUE=DATE:20151113
DTEND;VALUE=DATE:20151114
DTSTAMP:20260419T170505
CREATED:20150818T221320Z
LAST-MODIFIED:20151010T003955Z
UID:1695-1447372800-1447459199@andyrobinsononline.com
SUMMARY:Building a Board That Works - Marlborough\, MA
DESCRIPTION:
URL:https://andyrobinsononline.com/event/building-a-board-that-works-concord-ma-2/
LOCATION:Building a Board That Works\, 512 Forest Street\, Marlborough\, MA\, United States
CATEGORIES:Workshop
ORGANIZER;CN="Metrowest Nonprofit Network":MAILTO:board.directors@metrowestnonprofit.org
END:VEVENT
BEGIN:VEVENT
DTSTART;VALUE=DATE:20151112
DTEND;VALUE=DATE:20151113
DTSTAMP:20260419T170505
CREATED:20150818T220800Z
LAST-MODIFIED:20151010T003822Z
UID:1691-1447286400-1447372799@andyrobinsononline.com
SUMMARY:Building a Board That Works - Framingham\, MA
DESCRIPTION:
URL:https://andyrobinsononline.com/event/building-a-board-that-works-concord-ma/
LOCATION:Building a Board That Works\, 848 Central Street\, Framingham\, MA\, United States
CATEGORIES:Workshop
ORGANIZER;CN="Metrowest Nonprofit Network":MAILTO:board.directors@metrowestnonprofit.org
END:VEVENT
BEGIN:VEVENT
DTSTART;VALUE=DATE:20151106
DTEND;VALUE=DATE:20151107
DTSTAMP:20260419T170505
CREATED:20150818T203652Z
LAST-MODIFIED:20150911T165324Z
UID:1684-1446768000-1446854399@andyrobinsononline.com
SUMMARY:Grants and earned income - Burlington\, VT
DESCRIPTION:
URL:https://andyrobinsononline.com/event/grants-and-earned-income-rutland-vt/
LOCATION:Grants and earned income\, Burlington\, VT\, United States
CATEGORIES:Workshop
ORGANIZER;CN="Marlboro Grad School Nonprofit Certificate":MAILTO:klier@gradschool.marlboro.edu
END:VEVENT
BEGIN:VEVENT
DTSTART;VALUE=DATE:20151104
DTEND;VALUE=DATE:20151105
DTSTAMP:20260419T170505
CREATED:20150818T203352Z
LAST-MODIFIED:20151019T211026Z
UID:1681-1446595200-1446681599@andyrobinsononline.com
SUMMARY:Train Your Board to Raise Money - Stowe\, VT
DESCRIPTION:
URL:https://andyrobinsononline.com/event/train-your-board-to-raise-money-stowe-vt/
LOCATION:Train Your Board to Raise Money\, Stowe\, VT\, United States
CATEGORIES:Workshop
ORGANIZER;CN="AFP Northern New England":MAILTO:admin@afp-nne.org
END:VEVENT
BEGIN:VEVENT
DTSTART;VALUE=DATE:20151030
DTEND;VALUE=DATE:20151031
DTSTAMP:20260419T170505
CREATED:20150818T203123Z
LAST-MODIFIED:20150911T165231Z
UID:1678-1446163200-1446249599@andyrobinsononline.com
SUMMARY:Board Development and Donor Fundraising - Burlington\, VT
DESCRIPTION:
URL:https://andyrobinsononline.com/event/board-development-and-donor-fundraising-rutland-vt/
LOCATION:Board development and donor fundraising\, Burlington\, VT\, United States
CATEGORIES:Workshop
ORGANIZER;CN="Marlboro Grad School Nonprofit Certificate":MAILTO:klier@gradschool.marlboro.edu
END:VEVENT
BEGIN:VEVENT
DTSTART;VALUE=DATE:20151022
DTEND;VALUE=DATE:20151023
DTSTAMP:20260419T170505
CREATED:20150818T202435Z
LAST-MODIFIED:20151019T211053Z
UID:1676-1445472000-1445558399@andyrobinsononline.com
SUMMARY:Creating (and Using) Your Fundraising Plan - La Junta\, CA
DESCRIPTION:
URL:https://andyrobinsononline.com/event/creating-and-using-your-fundraising-plan-la-junta-ca/
LOCATION:Creating (and Using) Your Fundraising Plan\, La Junta\, CO\, United States
CATEGORIES:Workshop
ORGANIZER;CN="Community Resource Center":MAILTO:adair@crcamerica.org
END:VEVENT
BEGIN:VEVENT
DTSTART;VALUE=DATE:20151021
DTEND;VALUE=DATE:20151022
DTSTAMP:20260419T170505
CREATED:20150818T201341Z
LAST-MODIFIED:20151019T211107Z
UID:1674-1445385600-1445471999@andyrobinsononline.com
SUMMARY:Building Boards That Work - La Junta\, CO
DESCRIPTION:
URL:https://andyrobinsononline.com/event/building-boards-that-work-la-junta-co/
LOCATION:Building Boards That Work\, La Junta\, CO\, United States
CATEGORIES:Workshop
ORGANIZER;CN="Community Resource Center":MAILTO:adair@crcamerica.org
END:VEVENT
BEGIN:VEVENT
DTSTART;VALUE=DATE:20151020
DTEND;VALUE=DATE:20151021
DTSTAMP:20260419T170505
CREATED:20150818T201154Z
LAST-MODIFIED:20151019T211124Z
UID:1671-1445299200-1445385599@andyrobinsononline.com
SUMMARY:Building Boards That Work & Creating (and Using) Your Fundraising Plan - Durango\, CO
DESCRIPTION:
URL:https://andyrobinsononline.com/event/building-boards-that-work-creating-and-using-your-fundraising-plan-durango-co/
LOCATION:Building Boards That Work & Creating (and Using) Your Fundraising Plan\, Durango\, CO\, United States
CATEGORIES:Workshop
ORGANIZER;CN="Community Resource Center":MAILTO:adair@crcamerica.org
END:VEVENT
BEGIN:VEVENT
DTSTART;VALUE=DATE:20151019
DTEND;VALUE=DATE:20151020
DTSTAMP:20260419T170505
CREATED:20150818T200923Z
LAST-MODIFIED:20151019T211142Z
UID:1668-1445212800-1445299199@andyrobinsononline.com
SUMMARY:Mobilize Your Board to Raise More Money - Montrose\, CO
DESCRIPTION:
URL:https://andyrobinsononline.com/event/mobilize-your-board-to-raise-more-money-montrose-co/
LOCATION:Mobilize Your Board to Raise More Money\, Montrose\, CO\, United States
CATEGORIES:Workshop
ORGANIZER;CN="Community Resource Center":MAILTO:adair@crcamerica.org
END:VEVENT
BEGIN:VEVENT
DTSTART;VALUE=DATE:20151006
DTEND;VALUE=DATE:20151007
DTSTAMP:20260419T170505
CREATED:20150818T200711Z
LAST-MODIFIED:20150818T200711Z
UID:1665-1444089600-1444175999@andyrobinsononline.com
SUMMARY:Creating a Sustainable\, Successful Organization - Coralville\, IA
DESCRIPTION:
URL:https://andyrobinsononline.com/event/creating-a-sustainable-successful-organization-coralville-ia/
LOCATION:Creating a Sustainable\, Successful Organization\, Coralville\, IA\, United States
CATEGORIES:Workshop
ORGANIZER;CN="AFP Eastern Iowa Chapter":MAILTO:beth.ruback@jccrisiscenter.org
END:VEVENT
BEGIN:VEVENT
DTSTART;VALUE=DATE:20151005
DTEND;VALUE=DATE:20151006
DTSTAMP:20260419T170505
CREATED:20150818T200444Z
LAST-MODIFIED:20150818T200444Z
UID:1662-1444003200-1444089599@andyrobinsononline.com
SUMMARY:Selling Social Change: Earned Income Strategies for Grassroots Groups - San Francisco\, CA
DESCRIPTION:
URL:https://andyrobinsononline.com/event/selling-social-change-earned-income-strategies-for-grassroots-groups-san-francisco-ca/
LOCATION:Selling Social Change: Earned Income Strategies for Grassroots Groups\, San Francisco\, CA\, United States
CATEGORIES:Workshop
ORGANIZER;CN="Foundation Center":MAILTO:gxd@foundationcenter.org
END:VEVENT
BEGIN:VEVENT
DTSTART;VALUE=DATE:20151002
DTEND;VALUE=DATE:20151003
DTSTAMP:20260419T170505
CREATED:20150818T200234Z
LAST-MODIFIED:20150831T182603Z
UID:1659-1443744000-1443830399@andyrobinsononline.com
SUMMARY:Creating a 12-Week Major Gifts Campaign - San Diego\, CA
DESCRIPTION:
URL:https://andyrobinsononline.com/event/topic-tba-san-diego-ca/
LOCATION:Creating a 12-Week Major Gifts Campaign\, San Diego\, CA\, United States
CATEGORIES:Workshop
ORGANIZER;CN="Nonprofit Management Solutions":MAILTO:llowe@npsolutions.org
END:VEVENT
BEGIN:VEVENT
DTSTART;VALUE=DATE:20150929
DTEND;VALUE=DATE:20150930
DTSTAMP:20260419T170505
CREATED:20150818T194331Z
LAST-MODIFIED:20150818T194331Z
UID:1653-1443484800-1443571199@andyrobinsononline.com
SUMMARY:Train Your Board (and Everyone Else) to Raise Money & How to Raise $500 to $5000 From Almost Anyone - Ontario\, CA
DESCRIPTION:
URL:https://andyrobinsononline.com/event/train-your-board-and-everyone-else-to-raise-money-how-to-raise-500-to-5000-from-almost-anyone-ontario-ca/
LOCATION:Train Your Board (and Everyone Else) to Raise Money & How to Raise $500 to $5000 From Almost Anyone\, Ontario\, CA\, United States
CATEGORIES:Workshop
ORGANIZER;CN="AFP Inland Empire Chapter":MAILTO:dacannon7@gmail.com
END:VEVENT
BEGIN:VEVENT
DTSTART;VALUE=DATE:20150918
DTEND;VALUE=DATE:20150919
DTSTAMP:20260419T170505
CREATED:20150812T181124Z
LAST-MODIFIED:20150819T163822Z
UID:1644-1442534400-1442620799@andyrobinsononline.com
SUMMARY:Collaborative Fundraising in Small Community - Ticonderoga\, NY
DESCRIPTION:
URL:https://andyrobinsononline.com/event/collaborative-fundraising-in-small-community-ticonderoga-ny/
LOCATION:Collaborative Fundraising in Small Community\, Ticonderoga\, NY\, United States
CATEGORIES:Workshop
ORGANIZER;CN="Ticonderoga Chamber of Commerce":MAILTO:chamberinfo@ticonderogany.com
END:VEVENT
BEGIN:VEVENT
DTSTART;VALUE=DATE:20150917
DTEND;VALUE=DATE:20150918
DTSTAMP:20260419T170505
CREATED:20150812T180721Z
LAST-MODIFIED:20150812T180721Z
UID:1641-1442448000-1442534399@andyrobinsononline.com
SUMMARY:Building a Board That Works - Tupper Lake\, NY
DESCRIPTION:
URL:https://andyrobinsononline.com/event/building-a-board-that-works-tupper-lake-ny/
LOCATION:Building a Board That Works\, Tupper Lake\, NY\, United States
CATEGORIES:Workshop
ORGANIZER;CN="Adirondack Foundation":MAILTO:chris@generousact.org
END:VEVENT
BEGIN:VEVENT
DTSTART;VALUE=DATE:20150826
DTEND;VALUE=DATE:20150827
DTSTAMP:20260419T170505
CREATED:20150812T175852Z
LAST-MODIFIED:20150812T175902Z
UID:1638-1440547200-1440633599@andyrobinsononline.com
SUMMARY:WEBINAR Big Gifts for Small Groups
DESCRIPTION:
URL:https://andyrobinsononline.com/event/webinar-big-gifts-for-small-groups/
LOCATION:WEBINAR Big Gifts for Small Groups
CATEGORIES:Webinar
ORGANIZER;CN="North American Association for Environmental Education":MAILTO:lomann@earthlink.net
END:VEVENT
END:VCALENDAR