BEGIN:VCALENDAR
VERSION:2.0
PRODID:-//Andy Robinson - ECPv6.15.20//NONSGML v1.0//EN
CALSCALE:GREGORIAN
METHOD:PUBLISH
X-ORIGINAL-URL:https://andyrobinsononline.com
X-WR-CALDESC:Events for Andy Robinson
REFRESH-INTERVAL;VALUE=DURATION:PT1H
X-Robots-Tag:noindex
X-PUBLISHED-TTL:PT1H
BEGIN:VTIMEZONE
TZID:America/New_York
BEGIN:DAYLIGHT
TZOFFSETFROM:-0500
TZOFFSETTO:-0400
TZNAME:EDT
DTSTART:20130310T070000
END:DAYLIGHT
BEGIN:STANDARD
TZOFFSETFROM:-0400
TZOFFSETTO:-0500
TZNAME:EST
DTSTART:20131103T060000
END:STANDARD
BEGIN:DAYLIGHT
TZOFFSETFROM:-0500
TZOFFSETTO:-0400
TZNAME:EDT
DTSTART:20140309T070000
END:DAYLIGHT
BEGIN:STANDARD
TZOFFSETFROM:-0400
TZOFFSETTO:-0500
TZNAME:EST
DTSTART:20141102T060000
END:STANDARD
BEGIN:DAYLIGHT
TZOFFSETFROM:-0500
TZOFFSETTO:-0400
TZNAME:EDT
DTSTART:20150308T070000
END:DAYLIGHT
BEGIN:STANDARD
TZOFFSETFROM:-0400
TZOFFSETTO:-0500
TZNAME:EST
DTSTART:20151101T060000
END:STANDARD
BEGIN:DAYLIGHT
TZOFFSETFROM:-0500
TZOFFSETTO:-0400
TZNAME:EDT
DTSTART:20160313T070000
END:DAYLIGHT
BEGIN:STANDARD
TZOFFSETFROM:-0400
TZOFFSETTO:-0500
TZNAME:EST
DTSTART:20161106T060000
END:STANDARD
END:VTIMEZONE
BEGIN:VEVENT
DTSTART;VALUE=DATE:20150204
DTEND;VALUE=DATE:20150205
DTSTAMP:20260419T225145
CREATED:20141228T193921Z
LAST-MODIFIED:20141228T194345Z
UID:1534-1423008000-1423094399@andyrobinsononline.com
SUMMARY:Selling Social Change: Earned Income Strategies for Nonprofits and  Mobilize Your Board to Raise More Money - Eugene\, Oregon
DESCRIPTION:
URL:https://andyrobinsononline.com/event/selling-social-change-earned-income-strategies-nonprofits-mobilize-board-raise-money-2/
LOCATION:Selling Social Change: Earned Income Strategies for Nonprofits and  Mobilize Your Board to Raise More Money\, Eugene\, OR
CATEGORIES:Workshop
ORGANIZER;CN="Nonprofit Association of Oregon":MAILTO:jbugley@nonprofitoregon.org
END:VEVENT
BEGIN:VEVENT
DTSTART;VALUE=DATE:20150203
DTEND;VALUE=DATE:20150204
DTSTAMP:20260419T225145
CREATED:20141228T193701Z
LAST-MODIFIED:20141228T194308Z
UID:1531-1422921600-1423007999@andyrobinsononline.com
SUMMARY:Selling Social Change: Earned Income Strategies for Nonprofits and  Mobilize Your Board to Raise More Money - Grants Pass\, Oregon
DESCRIPTION:
URL:https://andyrobinsononline.com/event/selling-social-change-earned-income-strategies-nonprofits-mobilize-board-raise-money/
LOCATION:Selling Social Change: Earned Income Strategies for Nonprofits and  Mobilize Your Board to Raise More Money\, Grants Pass\, OR
CATEGORIES:Workshop
ORGANIZER;CN="Nonprofit Association of Oregon":MAILTO:jbugley@nonprofitoregon.org
END:VEVENT
BEGIN:VEVENT
DTSTART;VALUE=DATE:20150129
DTEND;VALUE=DATE:20150130
DTSTAMP:20260419T225145
CREATED:20141228T193442Z
LAST-MODIFIED:20141228T193442Z
UID:1528-1422489600-1422575999@andyrobinsononline.com
SUMMARY:WEBINAR - Building a Board That Works
DESCRIPTION:
URL:https://andyrobinsononline.com/event/webinar-building-board-works/
LOCATION:Building a Board That Works
CATEGORIES:Webinar
ORGANIZER;CN="Foundation Center":MAILTO:sjn@foundationcenter.org
END:VEVENT
BEGIN:VEVENT
DTSTART;VALUE=DATE:20150110
DTEND;VALUE=DATE:20150111
DTSTAMP:20260419T225145
CREATED:20141229T181218Z
LAST-MODIFIED:20141229T181714Z
UID:1543-1420848000-1420934399@andyrobinsononline.com
SUMMARY:Mobilize Your Board to Raise More Money - Plainfield\, VT
DESCRIPTION:
URL:https://andyrobinsononline.com/event/mobilize-board-raise-money-plainfield-vt/
LOCATION:Mobilize Your Board to Raise More Money\, Plainfield\, VT
CATEGORIES:Workshop
END:VEVENT
BEGIN:VEVENT
DTSTART;VALUE=DATE:20150107
DTEND;VALUE=DATE:20150108
DTSTAMP:20260419T225145
CREATED:20141228T193209Z
LAST-MODIFIED:20141228T193209Z
UID:1525-1420588800-1420675199@andyrobinsononline.com
SUMMARY:WEBINAR - Train Your Board (and Everyone Else) to Raise Money
DESCRIPTION:
URL:https://andyrobinsononline.com/event/webinar-train-board-everyone-else-raise-money/
LOCATION:Train Your Board (and Everyone Else) to Raise Money
CATEGORIES:Webinar
END:VEVENT
BEGIN:VEVENT
DTSTART;VALUE=DATE:20141209
DTEND;VALUE=DATE:20141210
DTSTAMP:20260419T225145
CREATED:20141111T162402Z
LAST-MODIFIED:20141111T162402Z
UID:1503-1418083200-1418169599@andyrobinsononline.com
SUMMARY:WEBINAR - It's Not Too Late: Year-End Major Gifts Fundraising for Nonprofits Large and Small
DESCRIPTION:
URL:https://andyrobinsononline.com/event/webinar-late-year-end-major-gifts-fundraising-nonprofits-large-small/
LOCATION:It’s Not Too Late: Year-End Major Gifts Fundraising for Nonprofits Large and Small
CATEGORIES:Webinar
ORGANIZER;CN="Pennsylvania Association of Nonprofit Organizations":MAILTO:james@pano.org
END:VEVENT
BEGIN:VEVENT
DTSTART;VALUE=DATE:20141205
DTEND;VALUE=DATE:20141206
DTSTAMP:20260419T225145
CREATED:20140907T192258Z
LAST-MODIFIED:20140907T192258Z
UID:1493-1417737600-1417823999@andyrobinsononline.com
SUMMARY:Grants and Earned Income - Montpelier\, VT
DESCRIPTION:
URL:https://andyrobinsononline.com/event/grants-earned-income-montpelier-vt/
LOCATION:Grants and Earned Income\, Montpelier\, VT\, United States
CATEGORIES:Workshop
ORGANIZER;CN="Marlboro Grad School -- Nonprofit Certificate Program":MAILTO:klier@gradschool.marlboro.edu
END:VEVENT
BEGIN:VEVENT
DTSTART;VALUE=DATE:20141124
DTEND;VALUE=DATE:20141125
DTSTAMP:20260419T225145
CREATED:20141111T162239Z
LAST-MODIFIED:20141111T162239Z
UID:1500-1416787200-1416873599@andyrobinsononline.com
SUMMARY:WEBINAR - Mobilize Your Board to Raise More Money
DESCRIPTION:
URL:https://andyrobinsononline.com/event/webinar-mobilize-board-raise-money-2/
LOCATION:Mobilize Your Board to Raise More Money
CATEGORIES:Webinar
ORGANIZER;CN="Farmers Market Coalition":MAILTO:liz@farmersmarketcoalition.org
END:VEVENT
BEGIN:VEVENT
DTSTART;VALUE=DATE:20141121
DTEND;VALUE=DATE:20141122
DTSTAMP:20260419T225145
CREATED:20140907T192052Z
LAST-MODIFIED:20140907T192052Z
UID:1490-1416528000-1416614399@andyrobinsononline.com
SUMMARY:Grants and Earned Income - Brattleboro\, VT
DESCRIPTION:
URL:https://andyrobinsononline.com/event/grants-earned-income-brattleboro-vt-2/
LOCATION:Grants and Earned Income\, Brattleboro\, VT\, United States
CATEGORIES:Workshop
ORGANIZER;CN="Marlboro Grad School -- Nonprofit Certificate Program":MAILTO:klier@gradschool.marlboro.edu
END:VEVENT
BEGIN:VEVENT
DTSTART;VALUE=DATE:20141105
DTEND;VALUE=DATE:20141106
DTSTAMP:20260419T225145
CREATED:20140907T191807Z
LAST-MODIFIED:20140907T191807Z
UID:1487-1415145600-1415231999@andyrobinsononline.com
SUMMARY:Train Your Board (and Everyone Else) to Raise Money - Concord\, NH
DESCRIPTION:
URL:https://andyrobinsononline.com/event/train-board-everyone-else-raise-money-concord-nh/
LOCATION:Train Your Board (and Everyone Else) to Raise Money\, Concord\, NH\, United States
CATEGORIES:Workshop
ORGANIZER;CN="Association of Fundraising Professionals%2C Rhode Island Chapter":MAILTO:admin@afp-nne.org
END:VEVENT
BEGIN:VEVENT
DTSTART;VALUE=DATE:20141031
DTEND;VALUE=DATE:20141101
DTSTAMP:20260419T225145
CREATED:20140907T191537Z
LAST-MODIFIED:20140907T191603Z
UID:1484-1414713600-1414799999@andyrobinsononline.com
SUMMARY:Board Governance and Donor Fundraising - Brattleboro\, VT
DESCRIPTION:
URL:https://andyrobinsononline.com/event/board-governance-donor-fundraising-brattleboro-vt/
LOCATION:Board Governance and Donor Fundraising\, Brattleboro\, VT\, United States
CATEGORIES:Workshop
ORGANIZER;CN="Marlboro Grad School -- Nonprofit Certificate Program":MAILTO:klier@gradschool.marlboro.edu
END:VEVENT
BEGIN:VEVENT
DTSTART;VALUE=DATE:20141022
DTEND;VALUE=DATE:20141023
DTSTAMP:20260419T225145
CREATED:20140907T191256Z
LAST-MODIFIED:20140907T191256Z
UID:1481-1413936000-1414022399@andyrobinsononline.com
SUMMARY:Mobilize Your Board to Raise More Money - Denver\, CO
DESCRIPTION:
URL:https://andyrobinsononline.com/event/mobilize-board-raise-money-denver-co/
LOCATION:Mobilize Your Board to Raise More Money\, Denver\, CO\, United States
CATEGORIES:Workshop
ORGANIZER;CN="Community Resource Center ":MAILTO:adair@crcamerica.org
END:VEVENT
BEGIN:VEVENT
DTSTART;VALUE=DATE:20141021
DTEND;VALUE=DATE:20141022
DTSTAMP:20260419T225145
CREATED:20140907T191011Z
LAST-MODIFIED:20140907T191011Z
UID:1478-1413849600-1413935999@andyrobinsononline.com
SUMMARY:Mobilize Your Board to Raise More Money - Carbondale\, CO
DESCRIPTION:
URL:https://andyrobinsononline.com/event/mobilize-board-raise-money-carbondale-co/
LOCATION:Mobilize Your Board to Raise More Money\, Carbondale\, CO\, United States
CATEGORIES:Workshop
ORGANIZER;CN="Community Resource Center ":MAILTO:adair@crcamerica.org
END:VEVENT
BEGIN:VEVENT
DTSTART;VALUE=DATE:20141016
DTEND;VALUE=DATE:20141017
DTSTAMP:20260419T225145
CREATED:20140907T190558Z
LAST-MODIFIED:20140907T190804Z
UID:1475-1413417600-1413503999@andyrobinsononline.com
SUMMARY:WEBINAR: Mobilize Your Board to Raise More Money
DESCRIPTION:
URL:https://andyrobinsononline.com/event/webinar-mobilize-board-raise-money/
LOCATION:WEBINAR: Mobilize Your Board to Raise More Money
CATEGORIES:Webinar
ORGANIZER;CN="Foundation Center":MAILTO:sjn@foundationcenter.org
END:VEVENT
BEGIN:VEVENT
DTSTART;VALUE=DATE:20141014
DTEND;VALUE=DATE:20141015
DTSTAMP:20260419T225145
CREATED:20140907T190308Z
LAST-MODIFIED:20140907T190331Z
UID:1472-1413244800-1413331199@andyrobinsononline.com
SUMMARY:How Do We Take the Fear Out of Fundraising? - Erie\, PA
DESCRIPTION:
URL:https://andyrobinsononline.com/event/take-fear-fundraising-erie-pa/
LOCATION:How Do We Take the Fear Out of Fundraising?\, Erie\, PA\, United States
CATEGORIES:Workshop
ORGANIZER;CN="The Nonprofit Partnership":MAILTO:mbrand@thenonprofitpartnership.org
END:VEVENT
BEGIN:VEVENT
DTSTART;VALUE=DATE:20141010
DTEND;VALUE=DATE:20141011
DTSTAMP:20260419T225145
CREATED:20140907T190026Z
LAST-MODIFIED:20140907T190034Z
UID:1469-1412899200-1412985599@andyrobinsononline.com
SUMMARY:Creating (and Using) Your Fundraising Plan - Santa Barbara\, CA
DESCRIPTION:
URL:https://andyrobinsononline.com/event/creating-using-fundraising-plan-santa-barbara-ca/
LOCATION:Creating (and Using) Your Fundraising Plan and Major Gifts Campaigns\, Santa Barbara\, CA\, United States
CATEGORIES:Workshop
ORGANIZER;CN="Fund for Santa Barbara.":MAILTO:gclark@fundforsantabarbara.org
END:VEVENT
BEGIN:VEVENT
DTSTART;VALUE=DATE:20141008
DTEND;VALUE=DATE:20141009
DTSTAMP:20260419T225145
CREATED:20140907T185715Z
LAST-MODIFIED:20140907T185715Z
UID:1466-1412726400-1412812799@andyrobinsononline.com
SUMMARY:Who Do You Want to Be When You Grow Up? Creating a Sustainable\, Successful Organization and  Mobilize Your Board to Raise More Money - Camarillo\, CA
DESCRIPTION:
URL:https://andyrobinsononline.com/event/want-grow-creating-sustainable-successful-organization-mobilize-board-raise-money-camarillo-ca/
LOCATION:Who Do You Want to Be When You Grow Up? Creating a Sustainable\, Successful Organization  and  Mobilize Your Board to Raise More Money\, Camarillo\, CA\, United States
CATEGORIES:Workshop
ORGANIZER;CN="Ventura County Community Foundation":MAILTO:sseale@vccf.org
END:VEVENT
BEGIN:VEVENT
DTSTART;VALUE=DATE:20141007
DTEND;VALUE=DATE:20141008
DTSTAMP:20260419T225145
CREATED:20140907T163059Z
LAST-MODIFIED:20140907T163059Z
UID:1463-1412640000-1412726399@andyrobinsononline.com
SUMMARY:Building a Board Than Works and The Nuts and Bolts of Fundraising - Santa Maria\, CA
DESCRIPTION:
URL:https://andyrobinsononline.com/event/building-board-works-nuts-bolts-fundraising-santa-maria-ca/
LOCATION:Building a Board Than Works and The Nuts and Bolts of Fundraising\, Santa Maria\, CA\, United States
CATEGORIES:Workshop
ORGANIZER;CN="Fund for Santa Barbara":MAILTO:gclark@fundforsantabarbara.org
END:VEVENT
BEGIN:VEVENT
DTSTART;VALUE=DATE:20141003
DTEND;VALUE=DATE:20141004
DTSTAMP:20260419T225145
CREATED:20140907T162416Z
LAST-MODIFIED:20140907T162416Z
UID:1460-1412294400-1412380799@andyrobinsononline.com
SUMMARY:Board Governance and Donor Fundraising - Montpelier\, VT
DESCRIPTION:
URL:https://andyrobinsononline.com/event/board-governance-donor-fundraising-montpelier-vt/
LOCATION:Board Governance and Donor Fundraising\, Montpelier\, VT\, United States
CATEGORIES:Workshop
ORGANIZER;CN="Marlboro Grad School -- Nonprofit Certificate Program":MAILTO:klier@gradschool.marlboro.edu
END:VEVENT
BEGIN:VEVENT
DTSTART;VALUE=DATE:20140920
DTEND;VALUE=DATE:20140921
DTSTAMP:20260419T225145
CREATED:20140907T161351Z
LAST-MODIFIED:20140907T161500Z
UID:1457-1411171200-1411257599@andyrobinsononline.com
SUMMARY:Training Your Board (and Everyone Else) to Raise Money and  Succession Planning: Leading By Giving Away Your Power - Providence\, RI
DESCRIPTION:
URL:https://andyrobinsononline.com/event/training-board-everyone-else-raise-money-succession-planning-leading-giving-away-power-providence-ri/
LOCATION:Training Your Board (and Everyone Else) to Raise Money and  Succession Planning: Leading By Giving Away Your Power\, Providence\, RI\, United States
CATEGORIES:Workshop
ORGANIZER;CN="Land Trust Alliance Rally":MAILTO:ptipson@lta.org
END:VEVENT
BEGIN:VEVENT
DTSTART;VALUE=DATE:20140916
DTEND;VALUE=DATE:20140917
DTSTAMP:20260419T225145
CREATED:20140907T161028Z
LAST-MODIFIED:20140907T162708Z
UID:1454-1410825600-1410911999@andyrobinsononline.com
SUMMARY:Nuts and Bolts of Fundraising - Amarillo\, TX
DESCRIPTION:
URL:https://andyrobinsononline.com/event/nuts-bolts-fundraising-amarillo-tx/
LOCATION:Nuts and Bolts of Fundraising\, Amarillo\, TX\, United States
CATEGORIES:Workshop
ORGANIZER;CN="Amarillo Area Foundation":MAILTO:roxann@aaf-hf.org
END:VEVENT
BEGIN:VEVENT
DTSTART;VALUE=DATE:20140915
DTEND;VALUE=DATE:20140916
DTSTAMP:20260419T225145
CREATED:20140907T160423Z
LAST-MODIFIED:20140907T162622Z
UID:1451-1410739200-1410825599@andyrobinsononline.com
SUMMARY:Benefit Auction Summit 2014 (with Andrea Kihlstedt) - Nashville\, TN
DESCRIPTION:
URL:https://andyrobinsononline.com/event/benefit-auction-summit-2014-andrea-kihlstedt-nashville-tn/
LOCATION:Benefit Auction Summit 2014 (with Andrea Kihlstedt)\, Nashville\, TN\, United States
CATEGORIES:Workshop
ORGANIZER;CN="National Auctioneers Association":MAILTO:kboydstun@auctioneers.org
END:VEVENT
BEGIN:VEVENT
DTSTART;VALUE=DATE:20140803
DTEND;VALUE=DATE:20140804
DTSTAMP:20260419T225145
CREATED:20140602T161929Z
LAST-MODIFIED:20140602T161929Z
UID:1445-1407024000-1407110399@andyrobinsononline.com
SUMMARY:Train Your Board (and Everyone Else) to Raise Money - Baltimore\, MD
DESCRIPTION:
URL:https://andyrobinsononline.com/event/train-board-everyone-else-raise-money-baltimore-md/
LOCATION:Train Your Board (and Everyone Else) to Raise Money\, Baltimore\, MD\, United States
CATEGORIES:Workshop
ORGANIZER;CN="GIFT Money for Our Movements conference":MAILTO:jennifer@grassrootsfundraising.org
END:VEVENT
BEGIN:VEVENT
DTSTART;VALUE=DATE:20140626
DTEND;VALUE=DATE:20140627
DTSTAMP:20260419T225145
CREATED:20140602T161715Z
LAST-MODIFIED:20140602T161715Z
UID:1442-1403740800-1403827199@andyrobinsononline.com
SUMMARY:Raise More Money: Train Your Team - Philadelphia\, PA
DESCRIPTION:
URL:https://andyrobinsononline.com/event/raise-money-train-team-philadelphia-pa/
LOCATION:Raise More Money: Train Your Team\, Philadelphia Free Library\, Philadelphia\, PA\, United States
CATEGORIES:Workshop
ORGANIZER;CN="Philadelphia Free Library":MAILTO:erefrfc@freelibrary.org
END:VEVENT
BEGIN:VEVENT
DTSTART;VALUE=DATE:20140509
DTEND;VALUE=DATE:20140510
DTSTAMP:20260419T225145
CREATED:20140325T201751Z
LAST-MODIFIED:20140325T201751Z
UID:1409-1399593600-1399679999@andyrobinsononline.com
SUMMARY:Building a Board That Works - Whallonsburg\, NY
DESCRIPTION:
URL:https://andyrobinsononline.com/event/building-board-works-whallonsburg-ny/
LOCATION:Building a Board That Works\, Whallonsburg\, NY\, United States
CATEGORIES:Workshop
ORGANIZER;CN="Adirondack Community Foundation":MAILTO:andrea@generousact.org
END:VEVENT
BEGIN:VEVENT
DTSTART;VALUE=DATE:20140426
DTEND;VALUE=DATE:20140427
DTSTAMP:20260419T225145
CREATED:20140303T192416Z
LAST-MODIFIED:20140303T192416Z
UID:1398-1398470400-1398556799@andyrobinsononline.com
SUMMARY:Train Your Board (and Everyone Else) to Raise Money Brunswick - ME
DESCRIPTION:
URL:https://andyrobinsononline.com/event/train-board-everyone-else-raise-money-brunswick/
LOCATION:Train Your Board (and Everyone Else) to Raise Money\, Brunswick\, ME\, United States
CATEGORIES:Workshop
ORGANIZER;CN="Maine Land Trust Network":MAILTO:wwhitney@mcht.org
END:VEVENT
BEGIN:VEVENT
DTSTART;VALUE=DATE:20140425
DTEND;VALUE=DATE:20140426
DTSTAMP:20260419T225145
CREATED:20140303T192239Z
LAST-MODIFIED:20140303T192239Z
UID:1395-1398384000-1398470399@andyrobinsononline.com
SUMMARY:Creating (and Using) Your Fundraising Plan and Major Gifts Campaigns Brunswick - ME
DESCRIPTION:
URL:https://andyrobinsononline.com/event/creating-using-fundraising-plan-major-gifts-campaigns-brunswick/
LOCATION:Creating (and Using) Your Fundraising Plan and Major Gifts Campaigns\, Brunswick\, ME\, United States
CATEGORIES:Workshop
ORGANIZER;CN="Maine Land Trust Network":MAILTO:wwhitney@mcht.org
END:VEVENT
BEGIN:VEVENT
DTSTART;VALUE=DATE:20140411
DTEND;VALUE=DATE:20140412
DTSTAMP:20260419T225145
CREATED:20140303T192035Z
LAST-MODIFIED:20140303T192035Z
UID:1392-1397174400-1397260799@andyrobinsononline.com
SUMMARY:Train your volunteers\, your board\, and everyone else to raise money Providence - RI
DESCRIPTION:
URL:https://andyrobinsononline.com/event/train-volunteers-board-everyone-else-raise-money-providence-ri/
LOCATION:Train your volunteers\, your board\, and everyone else to raise money\, Providence\, RI\, United States
CATEGORIES:Workshop
ORGANIZER;CN="Association of Fundraising Professionals%2C Rhode Island Chapter":MAILTO:info@afpri.org
END:VEVENT
BEGIN:VEVENT
DTSTART;VALUE=DATE:20140402
DTEND;VALUE=DATE:20140403
DTSTAMP:20260419T225145
CREATED:20140325T200907Z
LAST-MODIFIED:20140325T201151Z
UID:1407-1396396800-1396483199@andyrobinsononline.com
SUMMARY:WEBINAR - Earned Income Strategies for Nonprofits
DESCRIPTION:
URL:https://andyrobinsononline.com/event/webinar-earned-income-strategies-nonprofits/
CATEGORIES:Webinar
ORGANIZER;CN="Land Trust Alliance":MAILTO:mburke@lta.org
END:VEVENT
BEGIN:VEVENT
DTSTART;VALUE=DATE:20140328
DTEND;VALUE=DATE:20140329
DTSTAMP:20260419T225145
CREATED:20140106T212837Z
LAST-MODIFIED:20140106T212945Z
UID:1222-1395964800-1396051199@andyrobinsononline.com
SUMMARY:Grants and Earned Income - Brattleboro\, VT
DESCRIPTION:
URL:https://andyrobinsononline.com/event/grants-earned-income-brattleboro-vt/
LOCATION:Marlboro Gradate School Nonprofit Certificate Program.\, Brattleboro\, VT
CATEGORIES:Workshop
ORGANIZER;CN="Marlboro Gradate School Nonprofit Certificate Program.":MAILTO:nonprofit@marlboro.edu
END:VEVENT
END:VCALENDAR