BEGIN:VCALENDAR
VERSION:2.0
PRODID:-//Andy Robinson - ECPv6.15.20//NONSGML v1.0//EN
CALSCALE:GREGORIAN
METHOD:PUBLISH
X-ORIGINAL-URL:https://andyrobinsononline.com
X-WR-CALDESC:Events for Andy Robinson
REFRESH-INTERVAL;VALUE=DURATION:PT1H
X-Robots-Tag:noindex
X-PUBLISHED-TTL:PT1H
BEGIN:VTIMEZONE
TZID:America/New_York
BEGIN:DAYLIGHT
TZOFFSETFROM:-0500
TZOFFSETTO:-0400
TZNAME:EDT
DTSTART:20130310T070000
END:DAYLIGHT
BEGIN:STANDARD
TZOFFSETFROM:-0400
TZOFFSETTO:-0500
TZNAME:EST
DTSTART:20131103T060000
END:STANDARD
BEGIN:DAYLIGHT
TZOFFSETFROM:-0500
TZOFFSETTO:-0400
TZNAME:EDT
DTSTART:20140309T070000
END:DAYLIGHT
BEGIN:STANDARD
TZOFFSETFROM:-0400
TZOFFSETTO:-0500
TZNAME:EST
DTSTART:20141102T060000
END:STANDARD
BEGIN:DAYLIGHT
TZOFFSETFROM:-0500
TZOFFSETTO:-0400
TZNAME:EDT
DTSTART:20150308T070000
END:DAYLIGHT
BEGIN:STANDARD
TZOFFSETFROM:-0400
TZOFFSETTO:-0500
TZNAME:EST
DTSTART:20151101T060000
END:STANDARD
END:VTIMEZONE
BEGIN:VEVENT
DTSTART;VALUE=DATE:20140122
DTEND;VALUE=DATE:20140123
DTSTAMP:20260420T035738
CREATED:20140106T210940Z
LAST-MODIFIED:20140106T210959Z
UID:1203-1390348800-1390435199@andyrobinsononline.com
SUMMARY:Being an Ambassador for Your Organization: Word of Mouth Marketing - Camarillo\, CA
DESCRIPTION:
URL:https://andyrobinsononline.com/event/ambassador-organization-word-mouth-marketing/
LOCATION:Ventura County Community Foundation\, Camarillo\, CA\, United States
END:VEVENT
BEGIN:VEVENT
DTSTART;VALUE=DATE:20140121
DTEND;VALUE=DATE:20140122
DTSTAMP:20260420T035738
CREATED:20140106T210726Z
LAST-MODIFIED:20140106T210726Z
UID:1200-1390262400-1390348799@andyrobinsononline.com
SUMMARY:Creating (and Using) Your Fundraising Plan - Camarillo\, CA
DESCRIPTION:
URL:https://andyrobinsononline.com/event/creating-using-fundraising-plan-camarillo-ca/
LOCATION:Ventura County Community Foundation\, Camarillo\, CA\, United States
END:VEVENT
BEGIN:VEVENT
DTSTART;VALUE=DATE:20140117
DTEND;VALUE=DATE:20140118
DTSTAMP:20260420T035738
CREATED:20140106T205804Z
LAST-MODIFIED:20140106T210456Z
UID:1197-1389916800-1390003199@andyrobinsononline.com
SUMMARY:Train Your Board (and Everyone Else) to Ask - San Francisco\, CA
DESCRIPTION:
URL:https://andyrobinsononline.com/event/train-board-everyone-else-ask-2/
LOCATION:The Foundation Center\, San Francisco\, CA
ORGANIZER;CN="The Foundation Center":MAILTO:shu@foundationcenter.org
END:VEVENT
BEGIN:VEVENT
DTSTART;VALUE=DATE:20140116
DTEND;VALUE=DATE:20140117
DTSTAMP:20260420T035738
CREATED:20140106T205201Z
LAST-MODIFIED:20140106T210312Z
UID:1196-1389830400-1389916799@andyrobinsononline.com
SUMMARY:What Every Board Member Should Know About Financial Management…and Probably Doesn’t  - Santa Barbara\, CA
DESCRIPTION:
URL:https://andyrobinsononline.com/event/every-board-member-know-financial-managementand-probably-doesnt/
LOCATION:Unnamed Venue\, Santa Barbara\, CA
ORGANIZER;CN="Fund for Santa Barbara.":MAILTO:gclark@fundforsantabarbara.org
END:VEVENT
BEGIN:VEVENT
DTSTART;VALUE=DATE:20140116
DTEND;VALUE=DATE:20140117
DTSTAMP:20260420T035738
CREATED:20140106T205051Z
LAST-MODIFIED:20140106T210236Z
UID:1195-1389830400-1389916799@andyrobinsononline.com
SUMMARY:Selling Social Change: Earned Income Strategies for Nonprofits - Santa Barbara\, CA
DESCRIPTION:
URL:https://andyrobinsononline.com/event/selling-social-change-earned-income-strategies-nonprofits/
LOCATION:Unnamed Venue\, Santa Barbara\, CA
ORGANIZER;CN="Fund for Santa Barbara.":MAILTO:gclark@fundforsantabarbara.org
END:VEVENT
BEGIN:VEVENT
DTSTART;VALUE=DATE:20140116
DTEND;VALUE=DATE:20140117
DTSTAMP:20260420T035738
CREATED:20140106T204621Z
LAST-MODIFIED:20140108T002036Z
UID:1192-1389830400-1389916799@andyrobinsononline.com
SUMMARY:Train Your Board (and Everyone Else) to Ask - Santa Barbara\, CA
DESCRIPTION:
URL:https://andyrobinsononline.com/event/train-board-everyone-else-ask/
LOCATION:Fund for Santa Barbara\, Santa Maria\, CA\, CA\, United States
ORGANIZER;CN="Fund for Santa Barbara.":MAILTO:gclark@fundforsantabarbara.org
END:VEVENT
BEGIN:VEVENT
DTSTART;VALUE=DATE:20140115
DTEND;VALUE=DATE:20140116
DTSTAMP:20260420T035738
CREATED:20140106T204144Z
LAST-MODIFIED:20140106T210152Z
UID:1189-1389744000-1389830399@andyrobinsononline.com
SUMMARY:More Askers = More Money: An All-Staff Approach to Major Gifts - Santa Maria\, CA
DESCRIPTION:
URL:https://andyrobinsononline.com/event/askers-money-staff-approach-major-gifts/
LOCATION:Fund for Santa Barbara\, Santa Maria\, CA\, CA\, United States
CATEGORIES:Workshop
ORGANIZER;CN="Fund for Santa Barbara":MAILTO:gclark@fundforsantabarbara.org
END:VEVENT
END:VCALENDAR