BEGIN:VCALENDAR
VERSION:2.0
PRODID:-//Andy Robinson - ECPv6.15.20//NONSGML v1.0//EN
CALSCALE:GREGORIAN
METHOD:PUBLISH
X-ORIGINAL-URL:https://andyrobinsononline.com
X-WR-CALDESC:Events for Andy Robinson
REFRESH-INTERVAL;VALUE=DURATION:PT1H
X-Robots-Tag:noindex
X-PUBLISHED-TTL:PT1H
BEGIN:VTIMEZONE
TZID:America/New_York
BEGIN:DAYLIGHT
TZOFFSETFROM:-0500
TZOFFSETTO:-0400
TZNAME:EDT
DTSTART:20250309T070000
END:DAYLIGHT
BEGIN:STANDARD
TZOFFSETFROM:-0400
TZOFFSETTO:-0500
TZNAME:EST
DTSTART:20251102T060000
END:STANDARD
BEGIN:DAYLIGHT
TZOFFSETFROM:-0500
TZOFFSETTO:-0400
TZNAME:EDT
DTSTART:20260308T070000
END:DAYLIGHT
BEGIN:STANDARD
TZOFFSETFROM:-0400
TZOFFSETTO:-0500
TZNAME:EST
DTSTART:20261101T060000
END:STANDARD
BEGIN:DAYLIGHT
TZOFFSETFROM:-0500
TZOFFSETTO:-0400
TZNAME:EDT
DTSTART:20270314T070000
END:DAYLIGHT
BEGIN:STANDARD
TZOFFSETFROM:-0400
TZOFFSETTO:-0500
TZNAME:EST
DTSTART:20271107T060000
END:STANDARD
END:VTIMEZONE
BEGIN:VEVENT
DTSTART;TZID=America/New_York:20260409T130000
DTEND;TZID=America/New_York:20260409T143000
DTSTAMP:20260419T174411
CREATED:20260326T171913Z
LAST-MODIFIED:20260326T171913Z
UID:4228-1775739600-1775745000@andyrobinsononline.com
SUMMARY:WEBINAR: Vermont Nonprofits and Immigration Enforcement: How Your Organization Can Respond
DESCRIPTION:
URL:https://andyrobinsononline.com/event/webinar-vermont-nonprofits-and-immigration-enforcement-how-your-organization-can-respond/
CATEGORIES:Webinar
ORGANIZER;CN="Common Good Vermont":MAILTO:emma@commongoodvt.org
END:VEVENT
BEGIN:VEVENT
DTSTART;VALUE=DATE:20260413
DTEND;VALUE=DATE:20260415
DTSTAMP:20260419T174411
CREATED:20260326T172935Z
LAST-MODIFIED:20260326T172935Z
UID:4231-1776038400-1776211199@andyrobinsononline.com
SUMMARY:Oregon Nonprofit Leaders Conference Breakout session: Boards in Transition
DESCRIPTION:
URL:https://andyrobinsononline.com/event/oregon-nonprofit-leaders-conference-breakout-session-boards-in-transition/
LOCATION:Oregon Nonprofit Leaders Conference Breakout session: Boards in Transition\, 2525 Ashland St\, Ashland\, OR\, United States
CATEGORIES:Workshop
ORGANIZER;CN="Nonprofit Association of Oregon":MAILTO:eseirup@nonprofitoregon.org
END:VEVENT
END:VCALENDAR