BEGIN:VCALENDAR
VERSION:2.0
PRODID:-//Andy Robinson - ECPv6.15.20//NONSGML v1.0//EN
CALSCALE:GREGORIAN
METHOD:PUBLISH
X-WR-CALNAME:Andy Robinson
X-ORIGINAL-URL:https://andyrobinsononline.com
X-WR-CALDESC:Events for Andy Robinson
REFRESH-INTERVAL;VALUE=DURATION:PT1H
X-Robots-Tag:noindex
X-PUBLISHED-TTL:PT1H
BEGIN:VTIMEZONE
TZID:America/New_York
BEGIN:DAYLIGHT
TZOFFSETFROM:-0500
TZOFFSETTO:-0400
TZNAME:EDT
DTSTART:20150308T070000
END:DAYLIGHT
BEGIN:STANDARD
TZOFFSETFROM:-0400
TZOFFSETTO:-0500
TZNAME:EST
DTSTART:20151101T060000
END:STANDARD
BEGIN:DAYLIGHT
TZOFFSETFROM:-0500
TZOFFSETTO:-0400
TZNAME:EDT
DTSTART:20160313T070000
END:DAYLIGHT
BEGIN:STANDARD
TZOFFSETFROM:-0400
TZOFFSETTO:-0500
TZNAME:EST
DTSTART:20161106T060000
END:STANDARD
BEGIN:DAYLIGHT
TZOFFSETFROM:-0500
TZOFFSETTO:-0400
TZNAME:EDT
DTSTART:20170312T070000
END:DAYLIGHT
BEGIN:STANDARD
TZOFFSETFROM:-0400
TZOFFSETTO:-0500
TZNAME:EST
DTSTART:20171105T060000
END:STANDARD
BEGIN:DAYLIGHT
TZOFFSETFROM:-0500
TZOFFSETTO:-0400
TZNAME:EDT
DTSTART:20180311T070000
END:DAYLIGHT
BEGIN:STANDARD
TZOFFSETFROM:-0400
TZOFFSETTO:-0500
TZNAME:EST
DTSTART:20181104T060000
END:STANDARD
END:VTIMEZONE
BEGIN:VEVENT
DTSTART;VALUE=DATE:20171025
DTEND;VALUE=DATE:20171026
DTSTAMP:20260420T013013
CREATED:20170822T182705Z
LAST-MODIFIED:20170822T183207Z
UID:2244-1508889600-1508975999@andyrobinsononline.com
SUMMARY:Grants & Earned Income - Burlington\, VT
DESCRIPTION:
URL:https://andyrobinsononline.com/event/grants-earned-income/
LOCATION:Grants & Earned Income\, Burlington\, VT\, United States
CATEGORIES:Workshop
ORGANIZER;CN="Marlboro Grad School Center for New Leadership":MAILTO:klier@marlboro.gradschool.edu
END:VEVENT
BEGIN:VEVENT
DTSTART;VALUE=DATE:20171016
DTEND;VALUE=DATE:20171019
DTSTAMP:20260420T013013
CREATED:20170822T191449Z
LAST-MODIFIED:20170823T020503Z
UID:2269-1508112000-1508371199@andyrobinsononline.com
SUMMARY:Training\, Facilitation\, and Consulting Certificate Program - Chesterfield\, NH
DESCRIPTION:
URL:https://andyrobinsononline.com/event/training-facilitation-consulting-certificate-program-chesterfield-nh/
LOCATION:Training\, Facilitation\, and Consulting Certificate Program\, Chesterfield\, NH\, United States
CATEGORIES:Workshop
ORGANIZER;CN="Marlboro Grad School Center for New Leadership & The Institute for Conservation Leadership":MAILTO:eblistein@marlboro.gradschool.edu
END:VEVENT
BEGIN:VEVENT
DTSTART;VALUE=DATE:20171006
DTEND;VALUE=DATE:20171007
DTSTAMP:20260420T013013
CREATED:20170822T182302Z
LAST-MODIFIED:20170822T183224Z
UID:2240-1507248000-1507334399@andyrobinsononline.com
SUMMARY:Building Your Board & Donor Fundraising - Brattleboro\, VT
DESCRIPTION:
URL:https://andyrobinsononline.com/event/building-board-donor-fundraising-2/
LOCATION:Building Your Board & Donor Fundraising\, Brattleboro\, VT\, United States
CATEGORIES:Workshop
ORGANIZER;CN="Marlboro Grad School Center for New Leadership":MAILTO:klier@marlboro.gradschool.edu
END:VEVENT
BEGIN:VEVENT
DTSTART;VALUE=DATE:20170927
DTEND;VALUE=DATE:20170928
DTSTAMP:20260420T013013
CREATED:20170822T181757Z
LAST-MODIFIED:20170822T183243Z
UID:2236-1506470400-1506556799@andyrobinsononline.com
SUMMARY:Building Your Board & Donor Fundraising - Burlington\, VT
DESCRIPTION:
URL:https://andyrobinsononline.com/event/building-board-donor-fundraising/
LOCATION:Building Your Board & Donor Fundraising\, Burlington\, VT\, United States
CATEGORIES:Workshop
ORGANIZER;CN="Marlboro Grad School Center for New Leadership":MAILTO:klier@marlboro.gradschool.edu
END:VEVENT
BEGIN:VEVENT
DTSTART;VALUE=DATE:20170920
DTEND;VALUE=DATE:20170921
DTSTAMP:20260420T013013
CREATED:20170822T185422Z
LAST-MODIFIED:20170822T185422Z
UID:2266-1505865600-1505951999@andyrobinsononline.com
SUMMARY:WEBINAR - Nonprofit Leadership Summit - Mobilize Your Board to Raise More Money
DESCRIPTION:
URL:https://andyrobinsononline.com/event/webinar-nonprofit-leadership-summit-mobilize-board-raise-money-2/
CATEGORIES:Webinar
ORGANIZER;CN="Nonprofit Leadership Summit -- Mobilize Your Board to Raise More Money":MAILTO:mazarine@wildwomanfundraising.com
END:VEVENT
BEGIN:VEVENT
DTSTART;VALUE=DATE:20170913
DTEND;VALUE=DATE:20170914
DTSTAMP:20260420T013013
CREATED:20170822T184655Z
LAST-MODIFIED:20170822T184655Z
UID:2260-1505260800-1505347199@andyrobinsononline.com
SUMMARY:Big Money for Small Groups - Southborough\, MA
DESCRIPTION:
URL:https://andyrobinsononline.com/event/big-money-small-groups-southborough-ma/
LOCATION:Big Money for Small Groups\, Southborough\, MA\, United States
CATEGORIES:Workshop
ORGANIZER;CN="Metrowest Nonprofit Network":MAILTO:mwnncr@gmail.com
END:VEVENT
BEGIN:VEVENT
DTSTART;VALUE=DATE:20170912
DTEND;VALUE=DATE:20170913
DTSTAMP:20260420T013013
CREATED:20170822T184125Z
LAST-MODIFIED:20170822T184125Z
UID:2256-1505174400-1505260799@andyrobinsononline.com
SUMMARY:Big Money for Small Groups - Framingham\, MA
DESCRIPTION:
URL:https://andyrobinsononline.com/event/big-money-small-groups-framingham-ma/
LOCATION:Big Money for Small Groups\, Framingham\, MA\, United States
CATEGORIES:Workshop
ORGANIZER;CN="Metrowest Nonprofit Network":MAILTO:mwnncr@gmail.com
END:VEVENT
BEGIN:VEVENT
DTSTART;VALUE=DATE:20170606
DTEND;VALUE=DATE:20170607
DTSTAMP:20260420T013013
CREATED:20170516T153919Z
LAST-MODIFIED:20170516T232619Z
UID:2219-1496707200-1496793599@andyrobinsononline.com
SUMMARY:WEBINAR: Stop Nagging Your Board! 12 Strategies to Improve Fundraising Follow-Through
DESCRIPTION:Andrea Kihlstedt and Andy Robinson
URL:https://andyrobinsononline.com/event/webinar-stop-nagging-board-12-strategies-improve-fundraising-follow/
CATEGORIES:Webinar
ORGANIZER;CN="Train Your Board":MAILTO:andy@andyrobinsononline.com
END:VEVENT
BEGIN:VEVENT
DTSTART;VALUE=DATE:20170513
DTEND;VALUE=DATE:20170514
DTSTAMP:20260420T013013
CREATED:20170501T154342Z
LAST-MODIFIED:20170501T190104Z
UID:2210-1494633600-1494719999@andyrobinsononline.com
SUMMARY:Boards & Fundraising - Keene\, NH
DESCRIPTION:
URL:https://andyrobinsononline.com/event/boards-fundraising-keene-nh/
LOCATION:Boards & Fundraising\, Keene\, NH\, United States
CATEGORIES:Workshop
ORGANIZER;CN="Center for New Leadership and the Hannah Grimes Center":MAILTO:klier@gradschool.marlboro.edu
END:VEVENT
BEGIN:VEVENT
DTSTART;VALUE=DATE:20170331
DTEND;VALUE=DATE:20170401
DTSTAMP:20260420T013013
CREATED:20161226T231917Z
LAST-MODIFIED:20161226T231917Z
UID:2111-1490918400-1491004799@andyrobinsononline.com
SUMMARY:Big Money for Small Groups - Augusta\, ME
DESCRIPTION:
URL:https://andyrobinsononline.com/event/big-money-small-groups-augusta/
LOCATION:Big Money for Small Groups\, Augusta\, ME\, United States
CATEGORIES:Workshop
ORGANIZER;CN="Resources for Social Change and Maine Initiatives":MAILTO:sass.rosc@gmail.com
END:VEVENT
BEGIN:VEVENT
DTSTART;VALUE=DATE:20170324
DTEND;VALUE=DATE:20170325
DTSTAMP:20260420T013013
CREATED:20170126T211203Z
LAST-MODIFIED:20170126T211203Z
UID:2163-1490313600-1490399999@andyrobinsononline.com
SUMMARY:Success & Sustainability: Building Resilient Nonprofits for the Long Haul - Garberville\, CA
DESCRIPTION:
URL:https://andyrobinsononline.com/event/success-sustainability-building-resilient-nonprofits-long-haul-garberville-ca/
LOCATION:Success & Sustainability: Building Resilient Nonprofits for the Long Haul\, Garberville\, CA\, United States
CATEGORIES:Workshop
ORGANIZER;CN="Organized by NorCAN/Humboldt Area Foundation":MAILTO:amyj@hafoundation.org
END:VEVENT
BEGIN:VEVENT
DTSTART;VALUE=DATE:20170323
DTEND;VALUE=DATE:20170324
DTSTAMP:20260420T013013
CREATED:20170126T210757Z
LAST-MODIFIED:20170126T210805Z
UID:2159-1490227200-1490313599@andyrobinsononline.com
SUMMARY:Building Your Group: How to Effectively Recruit and Manage Volunteers - Bayside\, CA
DESCRIPTION:
URL:https://andyrobinsononline.com/event/building-group-effectively-recruit-manage-volunteers-bayside-ca/
LOCATION:Building Your Group: How to Effectively Recruit and Manage Volunteers\, Bayside\, CA\, United States
CATEGORIES:Workshop
ORGANIZER;CN="Organized by NorCAN/Humboldt Area Foundation":MAILTO:amyj@hafoundation.org
END:VEVENT
BEGIN:VEVENT
DTSTART;VALUE=DATE:20170323
DTEND;VALUE=DATE:20170324
DTSTAMP:20260420T013013
CREATED:20170126T210530Z
LAST-MODIFIED:20170126T210530Z
UID:2155-1490227200-1490313599@andyrobinsononline.com
SUMMARY:Succession Planning - Bayside\, CA
DESCRIPTION:
URL:https://andyrobinsononline.com/event/succession-planning-bayside-ca/
LOCATION:Succession Planning\, Bayside\, CA\, United States
CATEGORIES:Workshop
ORGANIZER;CN="Organized by NorCAN/Humboldt Area Foundation":MAILTO:amyj@hafoundation.org
END:VEVENT
BEGIN:VEVENT
DTSTART;VALUE=DATE:20170322
DTEND;VALUE=DATE:20170323
DTSTAMP:20260420T013013
CREATED:20170126T210126Z
LAST-MODIFIED:20170126T210135Z
UID:2151-1490140800-1490227199@andyrobinsononline.com
SUMMARY:Your Best Board: How to Recruit\, Train\, and Empower Your Most Important Volunteers - Smith River\, CA
DESCRIPTION:
URL:https://andyrobinsononline.com/event/best-board-recruit-train-empower-important-volunteers-smith-river-ca/
LOCATION:Your Best Board: How to Recruit\, Train\, and Empower Your Most Important Volunteers\, Smith River\, CA\, United States
CATEGORIES:Workshop
ORGANIZER;CN="Organized by Wild Rivers Community Foundation":MAILTO:gzottola@wildriverscf.org
END:VEVENT
BEGIN:VEVENT
DTSTART;VALUE=DATE:20170321
DTEND;VALUE=DATE:20170322
DTSTAMP:20260420T013013
CREATED:20170208T170225Z
LAST-MODIFIED:20170208T170225Z
UID:2168-1490054400-1490140799@andyrobinsononline.com
SUMMARY:Your Best Board: How to Recruit and Empower Your Most Important Volunteers - Springfield\, OR
DESCRIPTION:
URL:https://andyrobinsononline.com/event/best-board-recruit-empower-important-volunteers-springfield/
LOCATION:Your Best Board: How to Recruit and Empower Your Most Important Volunteers\, Springfield\, OR\, United States
CATEGORIES:Workshop
ORGANIZER;CN="Emerald Valley Development Professionals":MAILTO:hquaas-annsa@peacehealth.org
END:VEVENT
BEGIN:VEVENT
DTSTART;VALUE=DATE:20170222
DTEND;VALUE=DATE:20170223
DTSTAMP:20260420T013013
CREATED:20170213T001852Z
LAST-MODIFIED:20170213T003123Z
UID:2172-1487721600-1487807999@andyrobinsononline.com
SUMMARY:Boards and Volunteers: How to Recruit Them\, Support Them\, and Train Them to Raise Money - Montpelier VT
DESCRIPTION:
URL:https://andyrobinsononline.com/event/boards-volunteers-recruit-support-train-raise-money-montpelier-vt/
LOCATION:Boards and Volunteers: How to Recruit Them\, Support Them\, and Train Them to Raise Money\, Montpelier\, VT\, United States
CATEGORIES:Workshop
ORGANIZER;CN="Presented by the Vermont Downtown Program":MAILTO:gary.holloway@vermont.gov
END:VEVENT
BEGIN:VEVENT
DTSTART;VALUE=DATE:20170203
DTEND;VALUE=DATE:20170204
DTSTAMP:20260420T013013
CREATED:20161226T231546Z
LAST-MODIFIED:20161226T231546Z
UID:2107-1486080000-1486166399@andyrobinsononline.com
SUMMARY:Focus on Friendraising: Rallying Supporters in Times of Change - Portland\, ME
DESCRIPTION:
URL:https://andyrobinsononline.com/event/focus-friendraising-rallying-supporters-times-change-portland/
LOCATION:Focus on Friendraising: Rallying Supporters in Times of Change\, Portland\, ME\, United States
CATEGORIES:Workshop
ORGANIZER;CN="Maine Association of Nonprofits":MAILTO:kruffner@nonprofitmaine.org
END:VEVENT
BEGIN:VEVENT
DTSTART;VALUE=DATE:20170201
DTEND;VALUE=DATE:20170202
DTSTAMP:20260420T013013
CREATED:20170106T195335Z
LAST-MODIFIED:20170106T200902Z
UID:2143-1485907200-1485993599@andyrobinsononline.com
SUMMARY:WEBINAR - Build Your Group: How to Effectively Recruit and Manage Fundraising Volunteers
DESCRIPTION:Andy Robinson
URL:https://andyrobinsononline.com/event/webinar-build-group-effectively-recruit-manage-fundraising-volunteers/
LOCATION:WEBINAR – Build Your Group: How to Effectively Recruit and Manage Fundraising Volunteers
CATEGORIES:Webinar
ORGANIZER;CN="Asking Matters":MAILTO:brian@askingmatters.com
END:VEVENT
BEGIN:VEVENT
DTSTART;VALUE=DATE:20161202
DTEND;VALUE=DATE:20161203
DTSTAMP:20260420T013013
CREATED:20160825T180333Z
LAST-MODIFIED:20160825T180333Z
UID:2031-1480636800-1480723199@andyrobinsononline.com
SUMMARY:Grants and Earned Income - Keene\, NH
DESCRIPTION:
URL:https://andyrobinsononline.com/event/grants-earned-income-keene-nh/
LOCATION:Grants and Earned Income\, Keene\, NH\, United States
CATEGORIES:Workshop
ORGANIZER;CN="Presented by Marlboro Graduate School Center for New Leadership and Hannah Grimes Center":MAILTO:klier@marlboro.gradschool.edu
END:VEVENT
BEGIN:VEVENT
DTSTART;VALUE=DATE:20161116
DTEND;VALUE=DATE:20161117
DTSTAMP:20260420T013013
CREATED:20160825T180017Z
LAST-MODIFIED:20160825T180017Z
UID:2025-1479254400-1479340799@andyrobinsononline.com
SUMMARY:Grants and Earned Income - Waterbury\, VT
DESCRIPTION:
URL:https://andyrobinsononline.com/event/grants-earned-income-waterbury-vt/
LOCATION:Grants and Earned Income\, Waterbury\, VT\, United States
CATEGORIES:Workshop
ORGANIZER;CN="Presented by Marlboro Graduate School Center for New Leadership":MAILTO:klier@marlboro.gradschool.edu
END:VEVENT
BEGIN:VEVENT
DTSTART;VALUE=DATE:20161111
DTEND;VALUE=DATE:20161112
DTSTAMP:20260420T013013
CREATED:20160825T175534Z
LAST-MODIFIED:20160825T175534Z
UID:2019-1478822400-1478908799@andyrobinsononline.com
SUMMARY:Leadership Skills for Social Change - Denver\, CO
DESCRIPTION:
URL:https://andyrobinsononline.com/event/leadership-skills-social-change-denver-co/
LOCATION:Leadership Skills for Social Change\, Denver\, CO\, United States
CATEGORIES:Workshop
ORGANIZER;CN="Presented by the Community Resource Center":MAILTO:gorrell@crcamerica.org
END:VEVENT
BEGIN:VEVENT
DTSTART;VALUE=DATE:20161110
DTEND;VALUE=DATE:20161111
DTSTAMP:20260420T013013
CREATED:20160825T175225Z
LAST-MODIFIED:20160825T175225Z
UID:2013-1478736000-1478822399@andyrobinsononline.com
SUMMARY:All-Staff Major Gifts Fundraising &  Creating a Sustainable\, Successful Organization - Breckenridge\, CO
DESCRIPTION:
URL:https://andyrobinsononline.com/event/staff-major-gifts-fundraising-creating-sustainable-successful-organization-breckenridge-co/
LOCATION:All-Staff Major Gifts Fundraising &  Creating a Sustainable\, Successful Organization\, Breckenridge\, CO\, United States
CATEGORIES:Workshop
ORGANIZER;CN="Presented by the Community Resource Center":MAILTO:gorrell@crcamerica.org
END:VEVENT
BEGIN:VEVENT
DTSTART;VALUE=DATE:20161109
DTEND;VALUE=DATE:20161110
DTSTAMP:20260420T013013
CREATED:20160825T174519Z
LAST-MODIFIED:20160825T174519Z
UID:2007-1478649600-1478735999@andyrobinsononline.com
SUMMARY:Mobilize Your Board to Raise More Money - Fort Collins\, CO
DESCRIPTION:
URL:https://andyrobinsononline.com/event/mobilize-board-raise-money-fort-collins-co/
LOCATION:Mobilize Your Board to Raise More Money\, Fort Collins\, CO\, United States
CATEGORIES:Workshop
ORGANIZER;CN="Presented by the Community Resource Center":MAILTO:gorrell@crcamerica.org
END:VEVENT
BEGIN:VEVENT
DTSTART;TZID=America/New_York:20161107T140000
DTEND;TZID=America/New_York:20161107T153000
DTSTAMP:20260420T013013
CREATED:20160930T141932Z
LAST-MODIFIED:20160930T142018Z
UID:2038-1478527200-1478532600@andyrobinsononline.com
SUMMARY:WEBINAR: Train Your Board to ASK
DESCRIPTION:Presented by Andrea Kihlstedt and Andy Robinson
URL:https://andyrobinsononline.com/event/webinar-train-board-ask/
CATEGORIES:Webinar
ORGANIZER;CN="":MAILTO:andy@andyrobinsonline.com
END:VEVENT
BEGIN:VEVENT
DTSTART;VALUE=DATE:20161104
DTEND;VALUE=DATE:20161105
DTSTAMP:20260420T013013
CREATED:20160825T172507Z
LAST-MODIFIED:20160825T172507Z
UID:1994-1478217600-1478303999@andyrobinsononline.com
SUMMARY:Building Your Board and Fundraising - Keene\, NH
DESCRIPTION:
URL:https://andyrobinsononline.com/event/building-board-fundraising-keene-nh/
LOCATION:Building Your Board and Fundraising\, Keene\, NH\, United States
CATEGORIES:Workshop
ORGANIZER;CN="Presented by Marlboro Graduate School Center for New Leadership and Hannah Grimes Center":MAILTO:klier@marlboro.gradschool.edu
END:VEVENT
BEGIN:VEVENT
DTSTART;VALUE=DATE:20161103
DTEND;VALUE=DATE:20161104
DTSTAMP:20260420T013013
CREATED:20160825T172059Z
LAST-MODIFIED:20160825T172842Z
UID:1988-1478131200-1478217599@andyrobinsononline.com
SUMMARY:Creating a Sustainable\, Successful Organization & Beyond Bad Training and Boring Meetings - Portland\, ME
DESCRIPTION:
URL:https://andyrobinsononline.com/event/creating-sustainable-successful-organization-beyond-bad-training-boring-meetings/
LOCATION:Creating a Sustainable\, Successful Organization & Beyond Bad Training and Boring Meetings\, Portland\, ME\, United States
CATEGORIES:Workshop
ORGANIZER;CN="Presented by Association of Fundraising Professionals%2C Northern New England":MAILTO:admin@afp-nne.org
END:VEVENT
BEGIN:VEVENT
DTSTART;VALUE=DATE:20161102
DTEND;VALUE=DATE:20161103
DTSTAMP:20260420T013013
CREATED:20160825T171716Z
LAST-MODIFIED:20160825T172932Z
UID:1982-1478044800-1478131199@andyrobinsononline.com
SUMMARY:Building Your Board and Fundraising - Waterbury VT
DESCRIPTION:
URL:https://andyrobinsononline.com/event/building-board-fundraising/
LOCATION:Building Your Board and Fundraising\, Waterbury\, VT\, United States
CATEGORIES:Workshop
ORGANIZER;CN="Presented by Marlboro Graduate School Center for New Leadership":MAILTO:klier@marlboro.gradschool.edu
END:VEVENT
BEGIN:VEVENT
DTSTART;VALUE=DATE:20161021
DTEND;VALUE=DATE:20161022
DTSTAMP:20260420T013013
CREATED:20160825T170803Z
LAST-MODIFIED:20161007T031613Z
UID:1976-1477008000-1477094399@andyrobinsononline.com
SUMMARY:Nuts and Bolts of Fundraising - Santa Maria\, CA
DESCRIPTION:
URL:https://andyrobinsononline.com/event/financial-literacy-nonprofits-2/
LOCATION:Nuts and Bolts of Fundraising\, Santa Maria\, CA\, United States
CATEGORIES:Workshop
ORGANIZER;CN="Presented by the North Country Nonprofit Forum":MAILTO:jenelle@orijenelorganizer.com
END:VEVENT
BEGIN:VEVENT
DTSTART;VALUE=DATE:20161020
DTEND;VALUE=DATE:20161021
DTSTAMP:20260420T013013
CREATED:20161007T030534Z
LAST-MODIFIED:20161007T031153Z
UID:2044-1476921600-1477007999@andyrobinsononline.com
SUMMARY:More Askers = More Money: All-Staff Major Gifts Fundraising - Santa Barbara\, CA
DESCRIPTION:
URL:https://andyrobinsononline.com/event/askers-money-staff-major-gifts-fundraising-santa-barbara-ca/
LOCATION:More Askers = More Money: All-Staff Major Gifts Fundraising\, Santa Barbara\, CA\, United States
CATEGORIES:Workshop
ORGANIZER;CN="Presented by the Fund for Santa Barbara":MAILTO:gclark@fundforsantabarbara.org
END:VEVENT
BEGIN:VEVENT
DTSTART;VALUE=DATE:20161020
DTEND;VALUE=DATE:20161021
DTSTAMP:20260420T013013
CREATED:20160825T170447Z
LAST-MODIFIED:20161007T031338Z
UID:1970-1476921600-1477007999@andyrobinsononline.com
SUMMARY:What Every Board Member Should Know About Financial Management - Santa Barbara\, CA
DESCRIPTION:
URL:https://andyrobinsononline.com/event/financial-literacy-nonprofits/
LOCATION:What Every Board Member Should Know About Financial Management\, Santa Barbara\, CA\, United States
CATEGORIES:Workshop
ORGANIZER;CN="Presented by the Fund for Santa Barbara":MAILTO:gclark@fundforsantabarbara.org
END:VEVENT
END:VCALENDAR