BEGIN:VCALENDAR
VERSION:2.0
PRODID:-//Andy Robinson - ECPv6.15.20//NONSGML v1.0//EN
CALSCALE:GREGORIAN
METHOD:PUBLISH
X-ORIGINAL-URL:https://andyrobinsononline.com
X-WR-CALDESC:Events for Andy Robinson
REFRESH-INTERVAL;VALUE=DURATION:PT1H
X-Robots-Tag:noindex
X-PUBLISHED-TTL:PT1H
BEGIN:VTIMEZONE
TZID:America/New_York
BEGIN:DAYLIGHT
TZOFFSETFROM:-0500
TZOFFSETTO:-0400
TZNAME:EDT
DTSTART:20170312T070000
END:DAYLIGHT
BEGIN:STANDARD
TZOFFSETFROM:-0400
TZOFFSETTO:-0500
TZNAME:EST
DTSTART:20171105T060000
END:STANDARD
BEGIN:DAYLIGHT
TZOFFSETFROM:-0500
TZOFFSETTO:-0400
TZNAME:EDT
DTSTART:20180311T070000
END:DAYLIGHT
BEGIN:STANDARD
TZOFFSETFROM:-0400
TZOFFSETTO:-0500
TZNAME:EST
DTSTART:20181104T060000
END:STANDARD
BEGIN:DAYLIGHT
TZOFFSETFROM:-0500
TZOFFSETTO:-0400
TZNAME:EDT
DTSTART:20190310T070000
END:DAYLIGHT
BEGIN:STANDARD
TZOFFSETFROM:-0400
TZOFFSETTO:-0500
TZNAME:EST
DTSTART:20191103T060000
END:STANDARD
END:VTIMEZONE
BEGIN:VEVENT
DTSTART;TZID=America/New_York:20180412T083000
DTEND;TZID=America/New_York:20180412T120000
DTSTAMP:20260425T234925
CREATED:20180111T205307Z
LAST-MODIFIED:20180111T205307Z
UID:2340-1523521800-1523534400@andyrobinsononline.com
SUMMARY:How to Train Your Board to Raise Money - Edison\, NJ
DESCRIPTION:
URL:https://andyrobinsononline.com/event/train-board-raise-money-edison-nj/
LOCATION:How to Train Your Board to Raise Money\, 2085 Route 27\, Edison\, NJ\, United States
CATEGORIES:Workshop
ORGANIZER;CN="AFP New Jersey":MAILTO:lori.richmond@managemellc.com
END:VEVENT
BEGIN:VEVENT
DTSTART;VALUE=DATE:20180425
DTEND;VALUE=DATE:20180426
DTSTAMP:20260425T234925
CREATED:20180406T010203Z
LAST-MODIFIED:20180406T010406Z
UID:2388-1524614400-1524700799@andyrobinsononline.com
SUMMARY:WEBINAR - How to Build A Successful Consulting and Training Business
DESCRIPTION:
URL:https://andyrobinsononline.com/event/webinar-how-to-build-a-successful-consulting-and-training-business/
LOCATION:How to Build A Successful Consulting and Training Business
CATEGORIES:Webinar
ORGANIZER;CN="Andy Robinson":MAILTO:andy@andyrobinsononline.com
END:VEVENT
END:VCALENDAR