BEGIN:VCALENDAR
VERSION:2.0
PRODID:-//Andy Robinson - ECPv6.15.20//NONSGML v1.0//EN
CALSCALE:GREGORIAN
METHOD:PUBLISH
X-ORIGINAL-URL:https://andyrobinsononline.com
X-WR-CALDESC:Events for Andy Robinson
REFRESH-INTERVAL;VALUE=DURATION:PT1H
X-Robots-Tag:noindex
X-PUBLISHED-TTL:PT1H
BEGIN:VTIMEZONE
TZID:America/New_York
BEGIN:DAYLIGHT
TZOFFSETFROM:-0500
TZOFFSETTO:-0400
TZNAME:EDT
DTSTART:20170312T070000
END:DAYLIGHT
BEGIN:STANDARD
TZOFFSETFROM:-0400
TZOFFSETTO:-0500
TZNAME:EST
DTSTART:20171105T060000
END:STANDARD
BEGIN:DAYLIGHT
TZOFFSETFROM:-0500
TZOFFSETTO:-0400
TZNAME:EDT
DTSTART:20180311T070000
END:DAYLIGHT
BEGIN:STANDARD
TZOFFSETFROM:-0400
TZOFFSETTO:-0500
TZNAME:EST
DTSTART:20181104T060000
END:STANDARD
BEGIN:DAYLIGHT
TZOFFSETFROM:-0500
TZOFFSETTO:-0400
TZNAME:EDT
DTSTART:20190310T070000
END:DAYLIGHT
BEGIN:STANDARD
TZOFFSETFROM:-0400
TZOFFSETTO:-0500
TZNAME:EST
DTSTART:20191103T060000
END:STANDARD
END:VTIMEZONE
BEGIN:VEVENT
DTSTART;VALUE=DATE:20181106
DTEND;VALUE=DATE:20181107
DTSTAMP:20260425T120108
CREATED:20181009T041821Z
LAST-MODIFIED:20181009T041821Z
UID:2454-1541462400-1541548799@andyrobinsononline.com
SUMMARY:Mobilize Your Board: Better Ambassadors Raise More Money - Carbondale\, CO
DESCRIPTION:
URL:https://andyrobinsononline.com/event/mobilize-your-board-better-ambassadors-raise-more-money-carbondale-co/
LOCATION:Mobilize Your Board: Better Ambassadors Raise More Money\, 520 South Third Street\, Carbondale\, CO\, 81623\, United States
CATEGORIES:Workshop
ORGANIZER;CN="Third Street Center":MAILTO:colin@thirdstreetcenter.net
END:VEVENT
BEGIN:VEVENT
DTSTART;VALUE=DATE:20181109
DTEND;VALUE=DATE:20181110
DTSTAMP:20260425T120108
CREATED:20180810T225111Z
LAST-MODIFIED:20180810T225111Z
UID:2419-1541721600-1541807999@andyrobinsononline.com
SUMMARY:The Ask: Face to Face Fundraising - Stowe\, VT
DESCRIPTION:
URL:https://andyrobinsononline.com/event/the-ask-face-to-face-fundraising-stowe-vt/
LOCATION:The Ask: Face to Face Fundraising\, Stowe\, VT\, United States
CATEGORIES:Workshop
ORGANIZER;CN="Association of Fundraising Professionals":MAILTO:admin@afpnne.org
END:VEVENT
BEGIN:VEVENT
DTSTART;VALUE=DATE:20181114
DTEND;VALUE=DATE:20181115
DTSTAMP:20260425T120108
CREATED:20180810T225523Z
LAST-MODIFIED:20180810T225523Z
UID:2425-1542153600-1542239999@andyrobinsononline.com
SUMMARY:Grants and Earned Income - St. Johnsbury\, VT
DESCRIPTION:
URL:https://andyrobinsononline.com/event/grants-and-earned-income-st-johnsbury-vt/
LOCATION:Grants and Earned Income\, St. Johnsbury\, VT\, United States
CATEGORIES:Workshop
ORGANIZER;CN="Marlboro College Center for New Leadership":MAILTO:klier@gradschool.marlboro.edu
END:VEVENT
BEGIN:VEVENT
DTSTART;VALUE=DATE:20181116
DTEND;VALUE=DATE:20181117
DTSTAMP:20260425T120108
CREATED:20180810T225843Z
LAST-MODIFIED:20180810T225843Z
UID:2429-1542326400-1542412799@andyrobinsononline.com
SUMMARY:Grants and Earned Income - St. Albans\, VT
DESCRIPTION:
URL:https://andyrobinsononline.com/event/grants-and-earned-income-st-albans-vt/
LOCATION:Grants and Earned Income\, St. Albans\, VT\, United States
CATEGORIES:Workshop
ORGANIZER;CN="Marlboro College Center for New Leadership":MAILTO:klier@gradschool.marlboro.edu
END:VEVENT
BEGIN:VEVENT
DTSTART;VALUE=DATE:20181129
DTEND;VALUE=DATE:20181130
DTSTAMP:20260425T120108
CREATED:20181019T172107Z
LAST-MODIFIED:20181019T172107Z
UID:2459-1543449600-1543535999@andyrobinsononline.com
SUMMARY:Fundraising for the Arts - San Jose\, CA
DESCRIPTION:
URL:https://andyrobinsononline.com/event/fundraising-for-the-arts-san-jose-ca/
LOCATION:Fundraising for the Arts\, 1700 Alum Rock Avenue\, San Jose\, 95116\, United States
CATEGORIES:Workshop
ORGANIZER;CN="SVCreates":MAILTO:alexandra@svcreates.org
END:VEVENT
END:VCALENDAR