BEGIN:VCALENDAR
VERSION:2.0
PRODID:-//Andy Robinson - ECPv6.15.20//NONSGML v1.0//EN
CALSCALE:GREGORIAN
METHOD:PUBLISH
X-WR-CALNAME:Andy Robinson
X-ORIGINAL-URL:https://andyrobinsononline.com
X-WR-CALDESC:Events for Andy Robinson
REFRESH-INTERVAL;VALUE=DURATION:PT1H
X-Robots-Tag:noindex
X-PUBLISHED-TTL:PT1H
BEGIN:VTIMEZONE
TZID:America/New_York
BEGIN:DAYLIGHT
TZOFFSETFROM:-0500
TZOFFSETTO:-0400
TZNAME:EDT
DTSTART:20170312T070000
END:DAYLIGHT
BEGIN:STANDARD
TZOFFSETFROM:-0400
TZOFFSETTO:-0500
TZNAME:EST
DTSTART:20171105T060000
END:STANDARD
BEGIN:DAYLIGHT
TZOFFSETFROM:-0500
TZOFFSETTO:-0400
TZNAME:EDT
DTSTART:20180311T070000
END:DAYLIGHT
BEGIN:STANDARD
TZOFFSETFROM:-0400
TZOFFSETTO:-0500
TZNAME:EST
DTSTART:20181104T060000
END:STANDARD
BEGIN:DAYLIGHT
TZOFFSETFROM:-0500
TZOFFSETTO:-0400
TZNAME:EDT
DTSTART:20190310T070000
END:DAYLIGHT
BEGIN:STANDARD
TZOFFSETFROM:-0400
TZOFFSETTO:-0500
TZNAME:EST
DTSTART:20191103T060000
END:STANDARD
END:VTIMEZONE
BEGIN:VEVENT
DTSTART;VALUE=DATE:20181204
DTEND;VALUE=DATE:20181205
DTSTAMP:20260425T101853
CREATED:20181019T173204Z
LAST-MODIFIED:20181019T173204Z
UID:2463-1543881600-1543967999@andyrobinsononline.com
SUMMARY:Fundraising and Financial Management for Nonprofits - Redmond\, OR
DESCRIPTION:
URL:https://andyrobinsononline.com/event/fundraising-and-financial-management-for-nonprofits-redmond-or/
LOCATION:Fundraising and Financial Management for Nonprofits\, 2324 SE College Loop\, Redmond\, OR\, 97756\, United States
CATEGORIES:Workshop
ORGANIZER;CN="Nonprofit Association of Oregon":MAILTO:cxiong@nonprofitoregon.org
END:VEVENT
BEGIN:VEVENT
DTSTART;VALUE=DATE:20181205
DTEND;VALUE=DATE:20181206
DTSTAMP:20260425T101853
CREATED:20181019T173705Z
LAST-MODIFIED:20181019T173705Z
UID:2467-1543968000-1544054399@andyrobinsononline.com
SUMMARY:Fundraising and Board Development for Nonprofits - Portland\, OR
DESCRIPTION:
URL:https://andyrobinsononline.com/event/fundraising-and-board-development-for-nonprofits-portland-or/
LOCATION:Fundraising and Board Development for Nonprofits\, 45 SW Ankeny Street\, Portland\, OR\, 97204\, United States
CATEGORIES:Workshop
ORGANIZER;CN="Nonprofit Association of Oregon":MAILTO:cxiong@nonprofitoregon.org
END:VEVENT
BEGIN:VEVENT
DTSTART;VALUE=DATE:20181208
DTEND;VALUE=DATE:20181209
DTSTAMP:20260425T101853
CREATED:20181108T182400Z
LAST-MODIFIED:20181108T182400Z
UID:2474-1544227200-1544313599@andyrobinsononline.com
SUMMARY:Money for Nonprofits: How to Raise It\, How to Manage It - Tupper Lake\, NY
DESCRIPTION:
URL:https://andyrobinsononline.com/event/money-for-nonprofits-how-to-raise-it-how-to-manage-it-tupper-lake-ny/
LOCATION:Money for Nonprofits: How to Raise It\, How to Manage It\, 114 Park St.\, Tupper Lake\, NY\, United States
CATEGORIES:Workshop
ORGANIZER;CN="Organized by the Adirondack Foundation and Tupper Arts":MAILTO:stanzi@adkfoundation.org
END:VEVENT
BEGIN:VEVENT
DTSTART;VALUE=DATE:20181211
DTEND;VALUE=DATE:20181212
DTSTAMP:20260425T101853
CREATED:20181121T233345Z
LAST-MODIFIED:20181121T233345Z
UID:2480-1544486400-1544572799@andyrobinsononline.com
SUMMARY:WEBINAR: Fundraising in Response to a Community Crisis
DESCRIPTION:
URL:https://andyrobinsononline.com/event/webinar-fundraising-in-response-to-a-community-crisis/
LOCATION:OR
CATEGORIES:Webinar
ORGANIZER;CN="Organized by the Center for Nonprofit Leadership%2C California Lutheran University":MAILTO:blackwell@callutheran.edu
END:VEVENT
END:VCALENDAR