BEGIN:VCALENDAR
VERSION:2.0
PRODID:-//Andy Robinson - ECPv6.15.20//NONSGML v1.0//EN
CALSCALE:GREGORIAN
METHOD:PUBLISH
X-ORIGINAL-URL:https://andyrobinsononline.com
X-WR-CALDESC:Events for Andy Robinson
REFRESH-INTERVAL;VALUE=DURATION:PT1H
X-Robots-Tag:noindex
X-PUBLISHED-TTL:PT1H
BEGIN:VTIMEZONE
TZID:America/New_York
BEGIN:DAYLIGHT
TZOFFSETFROM:-0500
TZOFFSETTO:-0400
TZNAME:EDT
DTSTART:20210314T070000
END:DAYLIGHT
BEGIN:STANDARD
TZOFFSETFROM:-0400
TZOFFSETTO:-0500
TZNAME:EST
DTSTART:20211107T060000
END:STANDARD
BEGIN:DAYLIGHT
TZOFFSETFROM:-0500
TZOFFSETTO:-0400
TZNAME:EDT
DTSTART:20220313T070000
END:DAYLIGHT
BEGIN:STANDARD
TZOFFSETFROM:-0400
TZOFFSETTO:-0500
TZNAME:EST
DTSTART:20221106T060000
END:STANDARD
BEGIN:DAYLIGHT
TZOFFSETFROM:-0500
TZOFFSETTO:-0400
TZNAME:EDT
DTSTART:20230312T070000
END:DAYLIGHT
BEGIN:STANDARD
TZOFFSETFROM:-0400
TZOFFSETTO:-0500
TZNAME:EST
DTSTART:20231105T060000
END:STANDARD
END:VTIMEZONE
BEGIN:VEVENT
DTSTART;VALUE=DATE:20220601
DTEND;VALUE=DATE:20220602
DTSTAMP:20260422T100753
CREATED:20220407T170113Z
LAST-MODIFIED:20220407T170113Z
UID:3183-1654041600-1654127999@andyrobinsononline.com
SUMMARY:WEBINAR: Arts organizations only! Managing Change and Leadership Transitions
DESCRIPTION:
URL:https://andyrobinsononline.com/event/webinar-arts-organizations-only-managing-change-and-leadership-transitions/
LOCATION:Managing Change and Leadership Transitions
CATEGORIES:Webinar
ORGANIZER;CN="SVCreates":MAILTO:alyssae@svcreates.org
END:VEVENT
BEGIN:VEVENT
DTSTART;VALUE=DATE:20220610
DTEND;VALUE=DATE:20220611
DTSTAMP:20260422T100753
CREATED:20220408T063052Z
LAST-MODIFIED:20220408T063052Z
UID:3187-1654819200-1654905599@andyrobinsononline.com
SUMMARY:Strengthening Organizations in Transition
DESCRIPTION:
URL:https://andyrobinsononline.com/event/strengthening-organizations-in-transition/
LOCATION:Strengthening Organizations in Transition\, Lake Placid\, NY\, United States
CATEGORIES:Workshop
ORGANIZER;CN="Adirondack Foundation":MAILTO:katie@adkfoundation.org
END:VEVENT
END:VCALENDAR