BEGIN:VCALENDAR
VERSION:2.0
PRODID:-//Andy Robinson - ECPv6.15.20//NONSGML v1.0//EN
CALSCALE:GREGORIAN
METHOD:PUBLISH
X-ORIGINAL-URL:https://andyrobinsononline.com
X-WR-CALDESC:Events for Andy Robinson
REFRESH-INTERVAL;VALUE=DURATION:PT1H
X-Robots-Tag:noindex
X-PUBLISHED-TTL:PT1H
BEGIN:VTIMEZONE
TZID:America/New_York
BEGIN:DAYLIGHT
TZOFFSETFROM:-0500
TZOFFSETTO:-0400
TZNAME:EDT
DTSTART:20210314T070000
END:DAYLIGHT
BEGIN:STANDARD
TZOFFSETFROM:-0400
TZOFFSETTO:-0500
TZNAME:EST
DTSTART:20211107T060000
END:STANDARD
BEGIN:DAYLIGHT
TZOFFSETFROM:-0500
TZOFFSETTO:-0400
TZNAME:EDT
DTSTART:20220313T070000
END:DAYLIGHT
BEGIN:STANDARD
TZOFFSETFROM:-0400
TZOFFSETTO:-0500
TZNAME:EST
DTSTART:20221106T060000
END:STANDARD
BEGIN:DAYLIGHT
TZOFFSETFROM:-0500
TZOFFSETTO:-0400
TZNAME:EDT
DTSTART:20230312T070000
END:DAYLIGHT
BEGIN:STANDARD
TZOFFSETFROM:-0400
TZOFFSETTO:-0500
TZNAME:EST
DTSTART:20231105T060000
END:STANDARD
END:VTIMEZONE
BEGIN:VEVENT
DTSTART;VALUE=DATE:20220826
DTEND;VALUE=DATE:20220827
DTSTAMP:20260422T063555
CREATED:20220628T201455Z
LAST-MODIFIED:20220628T202607Z
UID:3201-1661472000-1661558399@andyrobinsononline.com
SUMMARY:WEBINAR: So You Want to Be a Consultant?
DESCRIPTION:
URL:https://andyrobinsononline.com/event/webinar-so-you-want-to-be-a-consultant/
LOCATION:OR
CATEGORIES:Webinar
ORGANIZER;CN="at the Nonprofit Consulting Conference":MAILTO:mazarine@treyz.net
END:VEVENT
END:VCALENDAR