BEGIN:VCALENDAR
VERSION:2.0
PRODID:-//Andy Robinson - ECPv6.15.20//NONSGML v1.0//EN
CALSCALE:GREGORIAN
METHOD:PUBLISH
X-WR-CALNAME:Andy Robinson
X-ORIGINAL-URL:https://andyrobinsononline.com
X-WR-CALDESC:Events for Andy Robinson
REFRESH-INTERVAL;VALUE=DURATION:PT1H
X-Robots-Tag:noindex
X-PUBLISHED-TTL:PT1H
BEGIN:VTIMEZONE
TZID:America/New_York
BEGIN:DAYLIGHT
TZOFFSETFROM:-0500
TZOFFSETTO:-0400
TZNAME:EDT
DTSTART:20210314T070000
END:DAYLIGHT
BEGIN:STANDARD
TZOFFSETFROM:-0400
TZOFFSETTO:-0500
TZNAME:EST
DTSTART:20211107T060000
END:STANDARD
BEGIN:DAYLIGHT
TZOFFSETFROM:-0500
TZOFFSETTO:-0400
TZNAME:EDT
DTSTART:20220313T070000
END:DAYLIGHT
BEGIN:STANDARD
TZOFFSETFROM:-0400
TZOFFSETTO:-0500
TZNAME:EST
DTSTART:20221106T060000
END:STANDARD
BEGIN:DAYLIGHT
TZOFFSETFROM:-0500
TZOFFSETTO:-0400
TZNAME:EDT
DTSTART:20230312T070000
END:DAYLIGHT
BEGIN:STANDARD
TZOFFSETFROM:-0400
TZOFFSETTO:-0500
TZNAME:EST
DTSTART:20231105T060000
END:STANDARD
END:VTIMEZONE
BEGIN:VEVENT
DTSTART;VALUE=DATE:20221020
DTEND;VALUE=DATE:20221021
DTSTAMP:20260422T031000
CREATED:20220823T154950Z
LAST-MODIFIED:20220823T155145Z
UID:3209-1666224000-1666310399@andyrobinsononline.com
SUMMARY:WEBINAR: The Last\, Best Gift: How to Build a Legacy Giving Program
DESCRIPTION:
URL:https://andyrobinsononline.com/event/webinar-the-last-best-gift-how-to-build-a-legacy-giving-program/
LOCATION:WEBINAR – The Last\, Best Gift: How to Build a Legacy Giving Program
CATEGORIES:Webinar
ORGANIZER;CN="Sustainability Network":MAILTO:info@sustainabilitynetwork.ca
END:VEVENT
BEGIN:VEVENT
DTSTART;VALUE=DATE:20221026
DTEND;VALUE=DATE:20221027
DTSTAMP:20260422T031000
CREATED:20220923T161607Z
LAST-MODIFIED:20220923T161607Z
UID:3231-1666742400-1666828799@andyrobinsononline.com
SUMMARY:How to Design and Facilitate Better Board Meetings (and other meetings\, too)
DESCRIPTION:
URL:https://andyrobinsononline.com/event/how-to-design-and-facilitate-better-board-meetings-and-other-meetings-too/
LOCATION:How to Design and Facilitate Better Board Meetings (and other meetings\, too)\, Augusta\, ME\, United States
CATEGORIES:Workshop
ORGANIZER;CN="Maine Association of Nonprofits":MAILTO:enazar@nonprofitmaine.org
END:VEVENT
END:VCALENDAR