BEGIN:VCALENDAR
VERSION:2.0
PRODID:-//Andy Robinson - ECPv6.15.20//NONSGML v1.0//EN
CALSCALE:GREGORIAN
METHOD:PUBLISH
X-WR-CALNAME:Andy Robinson
X-ORIGINAL-URL:https://andyrobinsononline.com
X-WR-CALDESC:Events for Andy Robinson
REFRESH-INTERVAL;VALUE=DURATION:PT1H
X-Robots-Tag:noindex
X-PUBLISHED-TTL:PT1H
BEGIN:VTIMEZONE
TZID:America/New_York
BEGIN:DAYLIGHT
TZOFFSETFROM:-0500
TZOFFSETTO:-0400
TZNAME:EDT
DTSTART:20220313T070000
END:DAYLIGHT
BEGIN:STANDARD
TZOFFSETFROM:-0400
TZOFFSETTO:-0500
TZNAME:EST
DTSTART:20221106T060000
END:STANDARD
BEGIN:DAYLIGHT
TZOFFSETFROM:-0500
TZOFFSETTO:-0400
TZNAME:EDT
DTSTART:20230312T070000
END:DAYLIGHT
BEGIN:STANDARD
TZOFFSETFROM:-0400
TZOFFSETTO:-0500
TZNAME:EST
DTSTART:20231105T060000
END:STANDARD
BEGIN:DAYLIGHT
TZOFFSETFROM:-0500
TZOFFSETTO:-0400
TZNAME:EDT
DTSTART:20240310T070000
END:DAYLIGHT
BEGIN:STANDARD
TZOFFSETFROM:-0400
TZOFFSETTO:-0500
TZNAME:EST
DTSTART:20241103T060000
END:STANDARD
END:VTIMEZONE
BEGIN:VEVENT
DTSTART;VALUE=DATE:20230309
DTEND;VALUE=DATE:20230310
DTSTAMP:20260421T174626
CREATED:20230125T000343Z
LAST-MODIFIED:20230125T000343Z
UID:3244-1678320000-1678406399@andyrobinsononline.com
SUMMARY:Corporate Giving Conference -- Virtual
DESCRIPTION:
URL:https://andyrobinsononline.com/event/corporate-giving-conference-virtual/
LOCATION:OR
ORGANIZER;CN="Corporate Giving Network":MAILTO:joy@corporategivingnetwork.com
END:VEVENT
BEGIN:VEVENT
DTSTART;VALUE=DATE:20230316
DTEND;VALUE=DATE:20230317
DTSTAMP:20260421T174626
CREATED:20230202T190119Z
LAST-MODIFIED:20230202T190119Z
UID:3249-1678924800-1679011199@andyrobinsononline.com
SUMMARY:Webinar: Building a Board That Works\, Part 1
DESCRIPTION:
URL:https://andyrobinsononline.com/event/webinar-building-a-board-that-works-part-1/
LOCATION:OR
CATEGORIES:Webinar
ORGANIZER;CN="New Hampshire Center for Nonprofits":MAILTO:keryn@nhnonprofits.org
END:VEVENT
BEGIN:VEVENT
DTSTART;VALUE=DATE:20230323
DTEND;VALUE=DATE:20230324
DTSTAMP:20260421T174626
CREATED:20230202T190433Z
LAST-MODIFIED:20230202T190433Z
UID:3252-1679529600-1679615999@andyrobinsononline.com
SUMMARY:Webinar: Building a Board That Works\, Part 2
DESCRIPTION:
URL:https://andyrobinsononline.com/event/webinar-building-a-board-that-works-part-2/
LOCATION:OR
CATEGORIES:Webinar
ORGANIZER;CN="New Hampshire Center for Nonprofits":MAILTO:keryn@nhnonprofits.org
END:VEVENT
END:VCALENDAR