BEGIN:VCALENDAR
VERSION:2.0
PRODID:-//Andy Robinson - ECPv6.15.20//NONSGML v1.0//EN
CALSCALE:GREGORIAN
METHOD:PUBLISH
X-ORIGINAL-URL:https://andyrobinsononline.com
X-WR-CALDESC:Events for Andy Robinson
REFRESH-INTERVAL;VALUE=DURATION:PT1H
X-Robots-Tag:noindex
X-PUBLISHED-TTL:PT1H
BEGIN:VTIMEZONE
TZID:America/New_York
BEGIN:DAYLIGHT
TZOFFSETFROM:-0500
TZOFFSETTO:-0400
TZNAME:EDT
DTSTART:20230312T070000
END:DAYLIGHT
BEGIN:STANDARD
TZOFFSETFROM:-0400
TZOFFSETTO:-0500
TZNAME:EST
DTSTART:20231105T060000
END:STANDARD
BEGIN:DAYLIGHT
TZOFFSETFROM:-0500
TZOFFSETTO:-0400
TZNAME:EDT
DTSTART:20240310T070000
END:DAYLIGHT
BEGIN:STANDARD
TZOFFSETFROM:-0400
TZOFFSETTO:-0500
TZNAME:EST
DTSTART:20241103T060000
END:STANDARD
BEGIN:DAYLIGHT
TZOFFSETFROM:-0500
TZOFFSETTO:-0400
TZNAME:EDT
DTSTART:20250309T070000
END:DAYLIGHT
BEGIN:STANDARD
TZOFFSETFROM:-0400
TZOFFSETTO:-0500
TZNAME:EST
DTSTART:20251102T060000
END:STANDARD
END:VTIMEZONE
BEGIN:VEVENT
DTSTART;VALUE=DATE:20240405
DTEND;VALUE=DATE:20240406
DTSTAMP:20260420T175253
CREATED:20240229T202247Z
LAST-MODIFIED:20240229T202323Z
UID:3322-1712275200-1712361599@andyrobinsononline.com
SUMMARY:WEBINAR - Beyond the 501(c)(3): Thinking Differently about Governance\, Nonprofit Structure\, and Social Change
DESCRIPTION:
URL:https://andyrobinsononline.com/event/webinar-beyond-the-501c3-thinking-differently-about-governance-nonprofit-structure-and-social-change/
LOCATION:Beyond the 501(c)(3): Thinking Differently about Governance\, Nonprofit Structure\, and Social Change
CATEGORIES:Webinar
ORGANIZER;CN="Philanthropy Massachusetts":MAILTO:pcorkum@philanthropyma.org
END:VEVENT
BEGIN:VEVENT
DTSTART;VALUE=DATE:20240425
DTEND;VALUE=DATE:20240426
DTSTAMP:20260420T175253
CREATED:20240129T210919Z
LAST-MODIFIED:20240129T210919Z
UID:3316-1714003200-1714089599@andyrobinsononline.com
SUMMARY:WEBINAR - How to Build Your Consulting Business
DESCRIPTION:
URL:https://andyrobinsononline.com/event/webinar-how-to-build-your-consulting-business/
LOCATION:How to Build Your Consulting Business
CATEGORIES:Webinar
ORGANIZER;CN="Philanthropy Massachusetts":MAILTO:pcorkum@philanthropyma.org
END:VEVENT
END:VCALENDAR