BEGIN:VCALENDAR
VERSION:2.0
PRODID:-//Andy Robinson - ECPv6.15.20//NONSGML v1.0//EN
CALSCALE:GREGORIAN
METHOD:PUBLISH
X-WR-CALNAME:Andy Robinson
X-ORIGINAL-URL:https://andyrobinsononline.com
X-WR-CALDESC:Events for Andy Robinson
REFRESH-INTERVAL;VALUE=DURATION:PT1H
X-Robots-Tag:noindex
X-PUBLISHED-TTL:PT1H
BEGIN:VTIMEZONE
TZID:America/New_York
BEGIN:DAYLIGHT
TZOFFSETFROM:-0500
TZOFFSETTO:-0400
TZNAME:EDT
DTSTART:20240310T070000
END:DAYLIGHT
BEGIN:STANDARD
TZOFFSETFROM:-0400
TZOFFSETTO:-0500
TZNAME:EST
DTSTART:20241103T060000
END:STANDARD
BEGIN:DAYLIGHT
TZOFFSETFROM:-0500
TZOFFSETTO:-0400
TZNAME:EDT
DTSTART:20250309T070000
END:DAYLIGHT
BEGIN:STANDARD
TZOFFSETFROM:-0400
TZOFFSETTO:-0500
TZNAME:EST
DTSTART:20251102T060000
END:STANDARD
BEGIN:DAYLIGHT
TZOFFSETFROM:-0500
TZOFFSETTO:-0400
TZNAME:EDT
DTSTART:20260308T070000
END:DAYLIGHT
BEGIN:STANDARD
TZOFFSETFROM:-0400
TZOFFSETTO:-0500
TZNAME:EST
DTSTART:20261101T060000
END:STANDARD
END:VTIMEZONE
BEGIN:VTIMEZONE
TZID:America/Los_Angeles
BEGIN:DAYLIGHT
TZOFFSETFROM:-0800
TZOFFSETTO:-0700
TZNAME:PDT
DTSTART:20240310T100000
END:DAYLIGHT
BEGIN:STANDARD
TZOFFSETFROM:-0700
TZOFFSETTO:-0800
TZNAME:PST
DTSTART:20241103T090000
END:STANDARD
BEGIN:DAYLIGHT
TZOFFSETFROM:-0800
TZOFFSETTO:-0700
TZNAME:PDT
DTSTART:20250309T100000
END:DAYLIGHT
BEGIN:STANDARD
TZOFFSETFROM:-0700
TZOFFSETTO:-0800
TZNAME:PST
DTSTART:20251102T090000
END:STANDARD
BEGIN:DAYLIGHT
TZOFFSETFROM:-0800
TZOFFSETTO:-0700
TZNAME:PDT
DTSTART:20260308T100000
END:DAYLIGHT
BEGIN:STANDARD
TZOFFSETFROM:-0700
TZOFFSETTO:-0800
TZNAME:PST
DTSTART:20261101T090000
END:STANDARD
END:VTIMEZONE
BEGIN:VEVENT
DTSTART;VALUE=DATE:20250205
DTEND;VALUE=DATE:20250206
DTSTAMP:20260419T231430
CREATED:20250108T171957Z
LAST-MODIFIED:20250108T171957Z
UID:4067-1738713600-1738799999@andyrobinsononline.com
SUMMARY:Community Conversations: Building a Board That Works!
DESCRIPTION:
URL:https://andyrobinsononline.com/event/community-conversations-building-a-board-that-works/
LOCATION:Community Conversations: Building a Board That Works!\, 138 Cemetery Ave.\, Manchester Center\, 05255
CATEGORIES:Workshop
ORGANIZER;CN="Manchester Community Library":MAILTO:pvignola@mclvt.org
END:VEVENT
BEGIN:VEVENT
DTSTART;TZID=America/Los_Angeles:20250220T090000
DTEND;TZID=America/Los_Angeles:20250220T110000
DTSTAMP:20260419T231430
CREATED:20241217T210902Z
LAST-MODIFIED:20241217T210902Z
UID:4055-1740042000-1740049200@andyrobinsononline.com
SUMMARY:WEBINAR: Train Your Board to Ask
DESCRIPTION:
URL:https://andyrobinsononline.com/event/webinar-train-your-board-to-ask/
LOCATION:WEBINAR: Train Your Board to Ask
CATEGORIES:Webinar
ORGANIZER;CN="Center for Nonprofit Leadership":MAILTO:brewsterk@callutheran.edu
END:VEVENT
BEGIN:VEVENT
DTSTART;TZID=America/New_York:20250220T113000
DTEND;TZID=America/New_York:20250220T134500
DTSTAMP:20260419T231430
CREATED:20250108T215508Z
LAST-MODIFIED:20250108T215508Z
UID:4072-1740051000-1740059100@andyrobinsononline.com
SUMMARY:WEBINAR: Redefining Fundraising So Everyone Can Participate
DESCRIPTION:
URL:https://andyrobinsononline.com/event/webinar-redefining-fundraising-so-everyone-can-participate/
LOCATION:WEBINAR: Redefining Fundraising So Everyone Can Participate
CATEGORIES:Webinar
ORGANIZER;CN="the Center for Health Nonprofits":MAILTO:rsnyder@cfsaz.org
END:VEVENT
END:VCALENDAR